FILENAME: O4510852.NES.1005695.tif
QUADRANGLE_NAME: INDIAN SPRING
QUADRANT: NE
WEST_LONGITUDE: -108 33 45.00000
EAST_LONGITUDE: -108 30 0.00000
NORTH_LATITUDE: 45 15 0.00000
SOUTH_LATITUDE: 45 11 15.00000
PRODUCTION_DATE: 1999 4 20
RASTER_ORDER: LEFT_RIGHT/TOP_BOTTOM
BAND_ORGANIZATION: SINGLE FILE
BAND_CONTENT: BLACK&WHITE
BAND_CONTENT: UNDEFINED
BAND_CONTENT: UNDEFINED
BITS_PER_PIXEL: 8
SAMPLES_AND_LINES: 5776 7704
HORIZONTAL_DATUM: NAD83
HORIZONTAL_COORDINATE_SYSTEM: UTM
COORDINATE_ZONE: 12
HORIZONTAL_UNITS: METERS
HORIZONTAL_RESOLUTION: 1.00000
SECONDARY_HORIZONTAL_DATUM: NAD27
XY_ORIGIN: 690920.00000 5014064.00000
SECONDARY_XY_ORIGIN: 690979.21600 5013853.74000
NATION: US
NATION: "SCIENCE
STATE: MT
NW_QUAD_CORNER_XY: 691274.59000 5013613.20300
NE_QUAD_CORNER_XY: 696179.04300 5013763.37500
SE_QUAD_CORNERY_XY: 696394.21700 5006820.19200
SW_QUAD_CORNER_XY: 691484.37800 5006670.01900
SECONDARY_NW_QUAD_XY: 691280.26700 5013395.88300
SECONDARY_NE_QUAD_XY: 696184.86600 5013546.05900
SECONDARY_SE_QUAD_XY: 696400.03800 5006602.92900
SECONDARY_SW_QUAD_XY: 691490.05400 5006452.75100
RMSE_XY: 3.60000
IMAGE_SOURCE: BLACK AND WHITE FILM
SOURCE_IMAGE_ID: NAPP 9138 013
SOURCE_IMAGE_DATE: 1996 08 23
SOURCE_IMAGE_ID: NAPP 9138 012
SOURCE_IMAGE_DATE: 1996 08 23
SOURCE_IMAGE_ID: NAPP 9138 014
SOURCE_IMAGE_DATE: 1996 08 23
SOURCE_DEM_DATE: 1998 00 00
AGENCY: WESTERN MAPPING CENTER (WMC)
PRODUCER: UNDEFINED
PRODUCTION_SYSTEM: GIS/MAGIC
COMPRESSION: UNDEFINED
STANDARD_VERSION: 1996 12
METADATA_DATE: 1999 05 18
DATA_FILE_SIZE: 44504080
BYTE_COUNT: 5776
