FILENAME: O4510852.SES.1015175.tif
QUADRANGLE_NAME: INDIAN SPRING
QUADRANT: SE
WEST_LONGITUDE: -108 33 45.00000
EAST_LONGITUDE: -108 30 0.00000
NORTH_LATITUDE: 45 11 15.00000
SOUTH_LATITUDE: 45 7 30.00000
PRODUCTION_DATE: 1999 6 29
RASTER_ORDER: LEFT_RIGHT/TOP_BOTTOM
BAND_ORGANIZATION: SINGLE FILE
BAND_CONTENT: BLACK&WHITE
BAND_CONTENT: UNDEFINED
BAND_CONTENT: UNDEFINED
BITS_PER_PIXEL: 8
SAMPLES_AND_LINES: 5782 7704
HORIZONTAL_DATUM: NAD83
HORIZONTAL_COORDINATE_SYSTEM: UTM
COORDINATE_ZONE: 12
HORIZONTAL_UNITS: METERS
HORIZONTAL_RESOLUTION: 1.00000
SECONDARY_HORIZONTAL_DATUM: NAD27
XY_ORIGIN: 691129.00000 5007121.00000
SECONDARY_XY_ORIGIN: 691188.21300 5006910.78800
NATION: US
NATION: "SCIENCE
STATE: MT
NW_QUAD_CORNER_XY: 691484.37800 5006670.01900
NE_QUAD_CORNER_XY: 696394.21700 5006820.19200
SE_QUAD_CORNERY_XY: 696609.15600 4999877.07200
SW_QUAD_CORNER_XY: 691693.93700 4999726.89700
SECONDARY_NW_QUAD_XY: 691490.05400 5006452.75100
SECONDARY_NE_QUAD_XY: 696400.03800 5006602.92900
SECONDARY_SE_QUAD_XY: 696614.97600 4999659.86200
SECONDARY_SW_QUAD_XY: 691699.61100 4999509.68200
RMSE_XY: 2.10000
IMAGE_SOURCE: BLACK AND WHITE FILM
SOURCE_IMAGE_ID: NAPP 9162 013
SOURCE_IMAGE_DATE: 1998 07 15
SOURCE_IMAGE_ID: NAPP 9138 261
SOURCE_IMAGE_DATE: 1996 08 23
SOURCE_IMAGE_ID: NAPP 9138 260
SOURCE_IMAGE_DATE: 1996 08 23
SOURCE_IMAGE_ID: NAPP 9138 010
SOURCE_IMAGE_DATE: 1996 08 23
SOURCE_IMAGE_ID: NAPP 9138 012
SOURCE_IMAGE_DATE: 1996 08 23
SOURCE_DEM_DATE: 1998 00 00
AGENCY: WESTERN MAPPING CENTER (WMC)
PRODUCER: UNDEFINED
PRODUCTION_SYSTEM: GIS/MAGIC
COMPRESSION: UNDEFINED
STANDARD_VERSION: 1996 12
METADATA_DATE: 1999 07 13
DATA_FILE_SIZE: 44550310
BYTE_COUNT: 5782
