FILENAME: O4510852.SWS.1005700.tif
QUADRANGLE_NAME: INDIAN SPRING
QUADRANT: SW
WEST_LONGITUDE: -108 37 30.00000
EAST_LONGITUDE: -108 33 45.00000
NORTH_LATITUDE: 45 11 15.00000
SOUTH_LATITUDE: 45 7 30.00000
PRODUCTION_DATE: 1999 4 20
RASTER_ORDER: LEFT_RIGHT/TOP_BOTTOM
BAND_ORGANIZATION: SINGLE FILE
BAND_CONTENT: BLACK&WHITE
BAND_CONTENT: UNDEFINED
BAND_CONTENT: UNDEFINED
BITS_PER_PIXEL: 8
SAMPLES_AND_LINES: 5776 7700
HORIZONTAL_DATUM: NAD83
HORIZONTAL_COORDINATE_SYSTEM: UTM
COORDINATE_ZONE: 12
HORIZONTAL_UNITS: METERS
HORIZONTAL_RESOLUTION: 1.00000
SECONDARY_HORIZONTAL_DATUM: NAD27
XY_ORIGIN: 686219.00000 5006971.00000
SECONDARY_XY_ORIGIN: 686278.25500 5006760.81900
NATION: US
NATION: "SCIENCE
STATE: MT
NW_QUAD_CORNER_XY: 686574.53800 5006523.65200
NE_QUAD_CORNER_XY: 691484.37800 5006670.01900
SE_QUAD_CORNERY_XY: 691693.93700 4999726.89700
SW_QUAD_CORNER_XY: 686778.71700 4999580.52800
SECONDARY_NW_QUAD_XY: 686580.06800 5006306.37900
SECONDARY_NE_QUAD_XY: 691490.05400 5006452.75100
SECONDARY_SE_QUAD_XY: 691699.61100 4999509.68200
SECONDARY_SW_QUAD_XY: 686784.24600 4999363.30900
RMSE_XY: 3.10000
IMAGE_SOURCE: BLACK AND WHITE FILM
SOURCE_IMAGE_ID: NAPP 9138 012
SOURCE_IMAGE_DATE: 1996 08 23
SOURCE_IMAGE_ID: NAPP 9138 270
SOURCE_IMAGE_DATE: 1996 08 23
SOURCE_IMAGE_ID: NAPP 9138 271
SOURCE_IMAGE_DATE: 1996 08 23
SOURCE_IMAGE_ID: NAPP 9138 272
SOURCE_IMAGE_DATE: 1996 08 23
SOURCE_IMAGE_ID: NAPP 9138 273
SOURCE_IMAGE_DATE: 1996 08 23
SOURCE_DEM_DATE: 1998 00 00
AGENCY: WESTERN MAPPING CENTER (WMC)
PRODUCER: UNDEFINED
PRODUCTION_SYSTEM: GIS/MAGIC
COMPRESSION: UNDEFINED
STANDARD_VERSION: 1996 12
METADATA_DATE: 1999 05 18
DATA_FILE_SIZE: 44480976
BYTE_COUNT: 5776
