FILENAME: O4510851.SWS.1007265.tif
QUADRANGLE_NAME: BOWLER
QUADRANT: SW
WEST_LONGITUDE: -108 45 0.00000
EAST_LONGITUDE: -108 41 15.00000
NORTH_LATITUDE: 45 11 15.00000
SOUTH_LATITUDE: 45 7 30.00000
PRODUCTION_DATE: 1999 4 12
RASTER_ORDER: LEFT_RIGHT/TOP_BOTTOM
BAND_ORGANIZATION: SINGLE FILE
BAND_CONTENT: BLACK&WHITE
BAND_CONTENT: UNDEFINED
BAND_CONTENT: UNDEFINED
BITS_PER_PIXEL: 8
SAMPLES_AND_LINES: 5766 7692
HORIZONTAL_DATUM: NAD83
HORIZONTAL_COORDINATE_SYSTEM: UTM
COORDINATE_ZONE: 12
HORIZONTAL_UNITS: METERS
HORIZONTAL_RESOLUTION: 1.00000
SECONDARY_HORIZONTAL_DATUM: NAD27
XY_ORIGIN: 676399.00000 5006682.00000
SECONDARY_XY_ORIGIN: 676458.34000 5006471.87900
NATION: US
NATION: "SCIENCE
STATE: MT
NW_QUAD_CORNER_XY: 676754.85300 5006242.33500
NE_QUAD_CORNER_XY: 681664.69600 5006381.09000
SE_QUAD_CORNERY_XY: 681863.49600 4999437.96600
SW_QUAD_CORNER_XY: 676948.27500 4999299.20900
SECONDARY_NW_QUAD_XY: 676760.09200 5006025.05400
SECONDARY_NE_QUAD_XY: 681670.08100 5006163.81400
SECONDARY_SE_QUAD_XY: 681868.87900 4999220.74200
SECONDARY_SW_QUAD_XY: 676953.51200 4999081.98100
RMSE_XY: 3.40000
IMAGE_SOURCE: BLACK AND WHITE FILM
SOURCE_IMAGE_ID: NAPP 9140 115
SOURCE_IMAGE_DATE: 1996 08 23
SOURCE_IMAGE_ID: NAPP 9141 012
SOURCE_IMAGE_DATE: 1996 08 23
SOURCE_IMAGE_ID: NAPP 9140 116
SOURCE_IMAGE_DATE: 1996 08 23
SOURCE_DEM_DATE: 1998 00 00
AGENCY: WESTERN MAPPING CENTER (WMC)
PRODUCER: UNDEFINED
PRODUCTION_SYSTEM: GIS/MAGIC
COMPRESSION: UNDEFINED
STANDARD_VERSION: 1996 12
METADATA_DATE: 1999 04 28
DATA_FILE_SIZE: 44357838
BYTE_COUNT: 5766
