FILENAME: O4510850.NWS.1007191.tif
QUADRANGLE_NAME: WADE
QUADRANT: NW
WEST_LONGITUDE: -108 52 30.00000
EAST_LONGITUDE: -108 48 45.00000
NORTH_LATITUDE: 45 15 0.00000
SOUTH_LATITUDE: 45 11 15.00000
PRODUCTION_DATE: 1999 4 13
RASTER_ORDER: LEFT_RIGHT/TOP_BOTTOM
BAND_ORGANIZATION: SINGLE FILE
BAND_CONTENT: BLACK&WHITE
BAND_CONTENT: UNDEFINED
BAND_CONTENT: UNDEFINED
BITS_PER_PIXEL: 8
SAMPLES_AND_LINES: 5751 7684
HORIZONTAL_DATUM: NAD83
HORIZONTAL_COORDINATE_SYSTEM: UTM
COORDINATE_ZONE: 12
HORIZONTAL_UNITS: METERS
HORIZONTAL_RESOLUTION: 1.00000
SECONDARY_HORIZONTAL_DATUM: NAD27
XY_ORIGIN: 666396.00000 5013351.00000
SECONDARY_XY_ORIGIN: 666455.45000 5013140.90100
NATION: US
NATION: "SCIENCE
STATE: MT
NW_QUAD_CORNER_XY: 666752.29800 5012919.43400
NE_QUAD_CORNER_XY: 671656.75900 5013050.57800
SE_QUAD_CORNERY_XY: 671845.00900 5006107.38500
SW_QUAD_CORNER_XY: 666935.16400 5005976.24000
SECONDARY_NW_QUAD_XY: 666757.24700 5012702.09300
SECONDARY_NE_QUAD_XY: 671661.85400 5012833.24000
SECONDARY_SE_QUAD_XY: 671850.10200 5005890.10000
SECONDARY_SW_QUAD_XY: 666940.11200 5005758.95100
RMSE_XY: 2.40000
IMAGE_SOURCE: BLACK AND WHITE FILM
SOURCE_IMAGE_ID: NAPP 9141 015
SOURCE_IMAGE_DATE: 1996 08 23
SOURCE_IMAGE_ID: NAPP 9147 029
SOURCE_IMAGE_DATE: 1996 08 24
SOURCE_IMAGE_ID: NAPP 9147 027
SOURCE_IMAGE_DATE: 1996 08 24
SOURCE_IMAGE_ID: NAPP 9141 013
SOURCE_IMAGE_DATE: 1996 08 23
SOURCE_IMAGE_ID: NAPP 9141 014
SOURCE_IMAGE_DATE: 1996 08 23
SOURCE_DEM_DATE: 1998 00 00
AGENCY: WESTERN MAPPING CENTER (WMC)
PRODUCER: UNDEFINED
PRODUCTION_SYSTEM: GIS/MAGIC
COMPRESSION: UNDEFINED
STANDARD_VERSION: 1996 12
METADATA_DATE: 1999 04 28
DATA_FILE_SIZE: 44196435
BYTE_COUNT: 5751
