FILENAME: O4510849.SWS.1007161.tif
QUADRANGLE_NAME: HATCHER PASS
QUADRANT: SW
WEST_LONGITUDE: -109 0 0.00000
EAST_LONGITUDE: -108 56 15.00000
NORTH_LATITUDE: 45 11 15.00000
SOUTH_LATITUDE: 45 7 30.00000
PRODUCTION_DATE: 1999 4 13
RASTER_ORDER: LEFT_RIGHT/TOP_BOTTOM
BAND_ORGANIZATION: SINGLE FILE
BAND_CONTENT: BLACK&WHITE
BAND_CONTENT: UNDEFINED
BAND_CONTENT: UNDEFINED
BITS_PER_PIXEL: 8
SAMPLES_AND_LINES: 5745 7676
HORIZONTAL_DATUM: NAD83
HORIZONTAL_COORDINATE_SYSTEM: UTM
COORDINATE_ZONE: 12
HORIZONTAL_UNITS: METERS
HORIZONTAL_RESOLUTION: 1.00000
SECONDARY_HORIZONTAL_DATUM: NAD27
XY_ORIGIN: 656759.00000 5006149.00000
SECONDARY_XY_ORIGIN: 656818.52500 5005938.96200
NATION: US
NATION: "SCIENCE
STATE: MT
NW_QUAD_CORNER_XY: 657115.47000 5005725.36300
NE_QUAD_CORNER_XY: 662025.31700 5005848.89900
SE_QUAD_CORNERY_XY: 662202.60600 4998905.76900
SW_QUAD_CORNER_XY: 657287.38200 4998782.23200
SECONDARY_NW_QUAD_XY: 657120.12700 5005508.06700
SECONDARY_NE_QUAD_XY: 662030.12000 5005631.60700
SECONDARY_SE_QUAD_XY: 662207.40700 4998688.53000
SECONDARY_SW_QUAD_XY: 657292.03700 4998564.99000
RMSE_XY: 2.00000
IMAGE_SOURCE: BLACK AND WHITE FILM
SOURCE_IMAGE_ID: NAPP 9147 290
SOURCE_IMAGE_DATE: 1996 08 24
SOURCE_IMAGE_ID: NAPP 9147 291
SOURCE_IMAGE_DATE: 1996 08 24
SOURCE_IMAGE_ID: NAPP 9147 042
SOURCE_IMAGE_DATE: 1996 08 24
SOURCE_DEM_DATE: 1998 00 00
AGENCY: WESTERN MAPPING CENTER (WMC)
PRODUCER: UNDEFINED
PRODUCTION_SYSTEM: GIS/MAGIC
COMPRESSION: UNDEFINED
STANDARD_VERSION: 1996 12
METADATA_DATE: 1999 04 28
DATA_FILE_SIZE: 44104365
BYTE_COUNT: 5745
