FILENAME: O4510847.NES.1006962.tif
QUADRANGLE_NAME: BEAR COULEE SW
QUADRANT: NE
WEST_LONGITUDE: -108 11 15.00000
EAST_LONGITUDE: -108 7 30.00000
NORTH_LATITUDE: 45 22 30.00000
SOUTH_LATITUDE: 45 18 45.00000
PRODUCTION_DATE: 1999 4 5
RASTER_ORDER: LEFT_RIGHT/TOP_BOTTOM
BAND_ORGANIZATION: SINGLE FILE
BAND_CONTENT: BLACK&WHITE
BAND_CONTENT: UNDEFINED
BAND_CONTENT: UNDEFINED
BITS_PER_PIXEL: 8
SAMPLES_AND_LINES: 5797 7725
HORIZONTAL_DATUM: NAD83
HORIZONTAL_COORDINATE_SYSTEM: UTM
COORDINATE_ZONE: 12
HORIZONTAL_UNITS: METERS
HORIZONTAL_RESOLUTION: 1.00000
SECONDARY_HORIZONTAL_DATUM: NAD27
XY_ORIGIN: 719862.00000 5028931.00000
SECONDARY_XY_ORIGIN: 719921.21500 5028720.18900
NATION: US
NATION: "SCIENCE
STATE: MT
NW_QUAD_CORNER_XY: 720216.26500 5028457.85200
NE_QUAD_CORNER_XY: 725109.91000 5028630.86100
SE_QUAD_CORNERY_XY: 725357.95000 5021687.58000
SW_QUAD_CORNER_XY: 720458.90400 5021514.56600
SECONDARY_NW_QUAD_XY: 720222.82000 5028240.45800
SECONDARY_NE_QUAD_XY: 725116.61100 5028413.47200
SECONDARY_SE_QUAD_XY: 725364.64900 5021470.24100
SECONDARY_SW_QUAD_XY: 720465.45700 5021297.22300
RMSE_XY: 1.80000
IMAGE_SOURCE: BLACK AND WHITE FILM
SOURCE_IMAGE_ID: NAPP 9143 017
SOURCE_IMAGE_DATE: 1996 08 24
SOURCE_IMAGE_ID: NAPP 9146 065
SOURCE_IMAGE_DATE: 1996 08 24
SOURCE_IMAGE_ID: NAPP 9143 016
SOURCE_IMAGE_DATE: 1996 08 24
SOURCE_IMAGE_ID: NAPP 9143 018
SOURCE_IMAGE_DATE: 1996 08 24
SOURCE_IMAGE_ID: NAPP 9143 019
SOURCE_IMAGE_DATE: 1996 08 24
SOURCE_DEM_DATE: 1964 00 00
AGENCY: WESTERN MAPPING CENTER (WMC)
PRODUCER: UNDEFINED
PRODUCTION_SYSTEM: GIS/MAGIC
COMPRESSION: UNDEFINED
STANDARD_VERSION: 1996 12
METADATA_DATE: 1999 04 30
DATA_FILE_SIZE: 44787622
BYTE_COUNT: 5797
