FILENAME: O4510847.NWS.1006963.tif
QUADRANGLE_NAME: BEAR COULEE SW
QUADRANT: NW
WEST_LONGITUDE: -108 15 0.00000
EAST_LONGITUDE: -108 11 15.00000
NORTH_LATITUDE: 45 22 30.00000
SOUTH_LATITUDE: 45 18 45.00000
PRODUCTION_DATE: 1999 4 5
RASTER_ORDER: LEFT_RIGHT/TOP_BOTTOM
BAND_ORGANIZATION: SINGLE FILE
BAND_CONTENT: BLACK&WHITE
BAND_CONTENT: UNDEFINED
BAND_CONTENT: UNDEFINED
BITS_PER_PIXEL: 8
SAMPLES_AND_LINES: 5792 7722
HORIZONTAL_DATUM: NAD83
HORIZONTAL_COORDINATE_SYSTEM: UTM
COORDINATE_ZONE: 12
HORIZONTAL_UNITS: METERS
HORIZONTAL_RESOLUTION: 1.00000
SECONDARY_HORIZONTAL_DATUM: NAD27
XY_ORIGIN: 714968.00000 5028758.00000
SECONDARY_XY_ORIGIN: 715027.20900 5028547.18500
NATION: US
NATION: "SCIENCE
STATE: MT
NW_QUAD_CORNER_XY: 715322.61700 5028288.65100
NE_QUAD_CORNER_XY: 720216.26500 5028457.85200
SE_QUAD_CORNERY_XY: 720458.90400 5021514.56600
SW_QUAD_CORNER_XY: 715559.85500 5021345.36200
SECONDARY_NW_QUAD_XY: 715329.02600 5028071.25200
SECONDARY_NE_QUAD_XY: 720222.82000 5028240.45800
SECONDARY_SE_QUAD_XY: 720465.45700 5021297.22300
SECONDARY_SW_QUAD_XY: 715566.26300 5021128.01300
RMSE_XY: 2.10000
IMAGE_SOURCE: BLACK AND WHITE FILM
SOURCE_IMAGE_ID: NAPP 9146 065
SOURCE_IMAGE_DATE: 1996 08 24
SOURCE_IMAGE_ID: NAPP 9134 015
SOURCE_IMAGE_DATE: 1996 08 10
SOURCE_IMAGE_ID: NAPP 9146 063
SOURCE_IMAGE_DATE: 1996 08 24
SOURCE_IMAGE_ID: NAPP 9143 017
SOURCE_IMAGE_DATE: 1996 08 24
SOURCE_IMAGE_ID: NAPP 9143 018
SOURCE_IMAGE_DATE: 1996 08 24
SOURCE_DEM_DATE: 1964 00 00
AGENCY: WESTERN MAPPING CENTER (WMC)
PRODUCER: UNDEFINED
PRODUCTION_SYSTEM: GIS/MAGIC
COMPRESSION: UNDEFINED
STANDARD_VERSION: 1996 12
METADATA_DATE: 1999 04 30
DATA_FILE_SIZE: 44731616
BYTE_COUNT: 5792
