FILENAME: O4510847.SWS.1006965.tif
QUADRANGLE_NAME: BEAR COULEE SW
QUADRANT: SW
WEST_LONGITUDE: -108 15 0.00000
EAST_LONGITUDE: -108 11 15.00000
NORTH_LATITUDE: 45 18 45.00000
SOUTH_LATITUDE: 45 15 0.00000
PRODUCTION_DATE: 1999 4 5
RASTER_ORDER: LEFT_RIGHT/TOP_BOTTOM
BAND_ORGANIZATION: SINGLE FILE
BAND_CONTENT: BLACK&WHITE
BAND_CONTENT: UNDEFINED
BAND_CONTENT: UNDEFINED
BITS_PER_PIXEL: 8
SAMPLES_AND_LINES: 5797 7722
HORIZONTAL_DATUM: NAD83
HORIZONTAL_COORDINATE_SYSTEM: UTM
COORDINATE_ZONE: 12
HORIZONTAL_UNITS: METERS
HORIZONTAL_RESOLUTION: 1.00000
SECONDARY_HORIZONTAL_DATUM: NAD27
XY_ORIGIN: 715206.00000 5021815.00000
SECONDARY_XY_ORIGIN: 715265.16700 5021604.22100
NATION: US
NATION: "SCIENCE
STATE: MT
NW_QUAD_CORNER_XY: 715559.85500 5021345.36200
NE_QUAD_CORNER_XY: 720458.90400 5021514.56600
SE_QUAD_CORNERY_XY: 720701.28000 5014571.33900
SW_QUAD_CORNER_XY: 715796.83600 5014402.13000
SECONDARY_NW_QUAD_XY: 715566.26300 5021128.01300
SECONDARY_NE_QUAD_XY: 720465.45700 5021297.22300
SECONDARY_SE_QUAD_XY: 720707.83100 5014354.04700
SECONDARY_SW_QUAD_XY: 715803.24200 5014184.83300
RMSE_XY: 1.70000
IMAGE_SOURCE: BLACK AND WHITE FILM
SOURCE_IMAGE_ID: NAPP 9143 015
SOURCE_IMAGE_DATE: 1996 08 24
SOURCE_IMAGE_ID: NAPP 9134 012
SOURCE_IMAGE_DATE: 1996 08 10
SOURCE_IMAGE_ID: NAPP 9134 013
SOURCE_IMAGE_DATE: 1996 08 10
SOURCE_IMAGE_ID: NAPP 9146 068
SOURCE_IMAGE_DATE: 1996 08 24
SOURCE_IMAGE_ID: NAPP 9146 066
SOURCE_IMAGE_DATE: 1996 08 24
SOURCE_DEM_DATE: 1964 00 00
AGENCY: WESTERN MAPPING CENTER (WMC)
PRODUCER: UNDEFINED
PRODUCTION_SYSTEM: GIS/MAGIC
COMPRESSION: UNDEFINED
STANDARD_VERSION: 1996 12
METADATA_DATE: 1999 04 30
DATA_FILE_SIZE: 44770231
BYTE_COUNT: 5797
