FILENAME: O4510846.SES.1006927.tif
QUADRANGLE_NAME: DEEP CREEK SE
QUADRANT: SE
WEST_LONGITUDE: -108 18 45.00000
EAST_LONGITUDE: -108 15 0.00000
NORTH_LATITUDE: 45 18 45.00000
SOUTH_LATITUDE: 45 15 0.00000
PRODUCTION_DATE: 1999 4 5
RASTER_ORDER: LEFT_RIGHT/TOP_BOTTOM
BAND_ORGANIZATION: SINGLE FILE
BAND_CONTENT: BLACK&WHITE
BAND_CONTENT: UNDEFINED
BAND_CONTENT: UNDEFINED
BITS_PER_PIXEL: 8
SAMPLES_AND_LINES: 5792 7718
HORIZONTAL_DATUM: NAD83
HORIZONTAL_COORDINATE_SYSTEM: UTM
COORDINATE_ZONE: 12
HORIZONTAL_UNITS: METERS
HORIZONTAL_RESOLUTION: 1.00000
SECONDARY_HORIZONTAL_DATUM: NAD27
XY_ORIGIN: 710306.00000 5021646.00000
SECONDARY_XY_ORIGIN: 710365.17700 5021435.32800
NATION: US
NATION: "SCIENCE
STATE: MT
NW_QUAD_CORNER_XY: 710660.80400 5021179.96500
NE_QUAD_CORNER_XY: 715559.85500 5021345.36200
SE_QUAD_CORNERY_XY: 715796.83600 5014402.13000
SW_QUAD_CORNER_XY: 710892.39100 5014236.73000
SECONDARY_NW_QUAD_XY: 710667.06600 5020962.61100
SECONDARY_NE_QUAD_XY: 715566.26300 5021128.01300
SECONDARY_SE_QUAD_XY: 715803.24200 5014184.83300
SECONDARY_SW_QUAD_XY: 710898.65100 5014019.42800
RMSE_XY: 2.00000
IMAGE_SOURCE: BLACK AND WHITE FILM
SOURCE_IMAGE_ID: NAPP 9134 012
SOURCE_IMAGE_DATE: 1996 08 10
SOURCE_IMAGE_ID: NAPP 9134 013
SOURCE_IMAGE_DATE: 1996 08 10
SOURCE_DEM_DATE: 1967 00 00
AGENCY: WESTERN MAPPING CENTER (WMC)
PRODUCER: UNDEFINED
PRODUCTION_SYSTEM: GIS/MAGIC
COMPRESSION: UNDEFINED
STANDARD_VERSION: 1996 12
METADATA_DATE: 1999 04 30
DATA_FILE_SIZE: 44708448
BYTE_COUNT: 5792
