FILENAME: O4510846.SWS.1006928.tif
QUADRANGLE_NAME: DEEP CREEK SE
QUADRANT: SW
WEST_LONGITUDE: -108 22 30.00000
EAST_LONGITUDE: -108 18 45.00000
NORTH_LATITUDE: 45 18 45.00000
SOUTH_LATITUDE: 45 15 0.00000
PRODUCTION_DATE: 1999 4 5
RASTER_ORDER: LEFT_RIGHT/TOP_BOTTOM
BAND_ORGANIZATION: SINGLE FILE
BAND_CONTENT: BLACK&WHITE
BAND_CONTENT: UNDEFINED
BAND_CONTENT: UNDEFINED
BITS_PER_PIXEL: 8
SAMPLES_AND_LINES: 5787 7714
HORIZONTAL_DATUM: NAD83
HORIZONTAL_COORDINATE_SYSTEM: UTM
COORDINATE_ZONE: 12
HORIZONTAL_UNITS: METERS
HORIZONTAL_RESOLUTION: 1.00000
SECONDARY_HORIZONTAL_DATUM: NAD27
XY_ORIGIN: 705407.00000 5021480.00000
SECONDARY_XY_ORIGIN: 705466.18400 5021269.42700
NATION: US
NATION: "SCIENCE
STATE: MT
NW_QUAD_CORNER_XY: 705761.75000 5021018.37500
NE_QUAD_CORNER_XY: 710660.80400 5021179.96500
SE_QUAD_CORNERY_XY: 710892.39100 5014236.73000
SW_QUAD_CORNER_XY: 705987.94400 5014075.13800
SECONDARY_NW_QUAD_XY: 705767.86600 5020801.01700
SECONDARY_NE_QUAD_XY: 710667.06600 5020962.61100
SECONDARY_SE_QUAD_XY: 710898.65100 5014019.42800
SECONDARY_SW_QUAD_XY: 705994.05800 5013857.83100
RMSE_XY: 2.40000
IMAGE_SOURCE: BLACK AND WHITE FILM
SOURCE_IMAGE_ID: NAPP 9137 102
SOURCE_IMAGE_DATE: 1996 08 23
SOURCE_IMAGE_ID: NAPP 9137 103
SOURCE_IMAGE_DATE: 1996 08 23
SOURCE_IMAGE_ID: NAPP 9137 101
SOURCE_IMAGE_DATE: 1996 08 23
SOURCE_DEM_DATE: 1967 00 00
AGENCY: WESTERN MAPPING CENTER (WMC)
PRODUCER: UNDEFINED
PRODUCTION_SYSTEM: GIS/MAGIC
COMPRESSION: UNDEFINED
STANDARD_VERSION: 1996 12
METADATA_DATE: 1999 04 30
DATA_FILE_SIZE: 44646705
BYTE_COUNT: 5787
