FILENAME: O4510845.NES.1050846.tif
QUADRANGLE_NAME: Deep Creek SW
QUADRANT: NE
WEST_LONGITUDE: -108 26 15.00000
EAST_LONGITUDE: -108 22 30.00000
NORTH_LATITUDE: 45 22 30.00000
SOUTH_LATITUDE: 45 18 45.00000
PRODUCTION_DATE: 2000 2 25
RASTER_ORDER: LEFT_RIGHT/TOP_BOTTOM
BAND_ORGANIZATION: SINGLE FILE
BAND_CONTENT: BLACK&WHITE
BAND_CONTENT: UNDEFINED
BAND_CONTENT: UNDEFINED
BITS_PER_PIXEL: 8
SAMPLES_AND_LINES: 5774 7708
HORIZONTAL_DATUM: NAD83
HORIZONTAL_COORDINATE_SYSTEM: UTM
COORDINATE_ZONE: 12
HORIZONTAL_UNITS: meters
HORIZONTAL_RESOLUTION: 1.00000
SECONDARY_HORIZONTAL_DATUM: NAD27
XY_ORIGIN: 700288.91000 5028261.17000
SECONDARY_XY_ORIGIN: 700348.12900 5028050.61800
NATION: US
STATE: MT
NW_QUAD_CORNER_XY: 700641.65200 5027803.89600
NE_QUAD_CORNER_XY: 705535.31000 5027961.67400
SE_QUAD_CORNERY_XY: 705761.75000 5021018.37600
SW_QUAD_CORNER_XY: 700862.69300 5020860.59400
SECONDARY_NW_QUAD_XY: 700647.62400 5027586.48300
SECONDARY_NE_QUAD_XY: 705541.42800 5027744.26500
SECONDARY_SE_QUAD_XY: 705767.86600 5020801.01800
SECONDARY_SW_QUAD_XY: 700868.66400 5020643.23100
RMSE_XY: 3.02000
IMAGE_SOURCE: BLACK & WHITE FILM
SOURCE_IMAGE_ID: NAPP 9161 075
SOURCE_IMAGE_DATE: 1998 7 12
SOURCE_IMAGE_ID: NAPP 9161 074
SOURCE_IMAGE_DATE: 1998 7 12
SOURCE_IMAGE_ID: NAPP 9161 070
SOURCE_IMAGE_DATE: 1998 7 12
SOURCE_IMAGE_ID: NAPP 9161 073
SOURCE_IMAGE_DATE: 1998 7 12
SOURCE_IMAGE_ID: NAPP 9161 071
SOURCE_IMAGE_DATE: 1998 7 12
SOURCE_DEM_DATE: 1966 1 1
AGENCY: ROCKY MOUNTAIN MAPPING CENTER (RMMC)
PRODUCER: ROCKY MOUNTAIN MAPPING CENTER (RMMC)
PRODUCTION_SYSTEM: ImageStation OrthoPro 02.02.01.06
COMPRESSION: UNDEFINED
STANDARD_VERSION: 1996 12
METADATA_DATE: 2000 2 25
DATA_FILE_SIZE: 44511766
BYTE_COUNT: 5774
