FILENAME: O4510845.SWS.1050849.tif
QUADRANGLE_NAME: Deep Creek SW
QUADRANT: SW
WEST_LONGITUDE: -108 30 0.00000
EAST_LONGITUDE: -108 26 15.00000
NORTH_LATITUDE: 45 18 45.00000
SOUTH_LATITUDE: 45 15 0.00000
PRODUCTION_DATE: 2000 2 25
RASTER_ORDER: LEFT_RIGHT/TOP_BOTTOM
BAND_ORGANIZATION: SINGLE FILE
BAND_CONTENT: BLACK&WHITE
BAND_CONTENT: UNDEFINED
BAND_CONTENT: UNDEFINED
BITS_PER_PIXEL: 8
SAMPLES_AND_LINES: 5774 7705
HORIZONTAL_DATUM: NAD83
HORIZONTAL_COORDINATE_SYSTEM: UTM
COORDINATE_ZONE: 12
HORIZONTAL_UNITS: meters
HORIZONTAL_RESOLUTION: 1.00000
SECONDARY_HORIZONTAL_DATUM: NAD27
XY_ORIGIN: 695610.76000 5021160.09000
SECONDARY_XY_ORIGIN: 695669.95900 5020949.70700
NATION: US
STATE: MT
NW_QUAD_CORNER_XY: 695963.63400 5020706.61900
NE_QUAD_CORNER_XY: 700862.69300 5020860.59400
SE_QUAD_CORNERY_XY: 701083.49400 5013917.35300
SW_QUAD_CORNER_XY: 696179.04300 5013763.37500
SECONDARY_NW_QUAD_XY: 695969.45900 5020489.25200
SECONDARY_NE_QUAD_XY: 700868.66400 5020643.23100
SECONDARY_SE_QUAD_XY: 701089.46300 5013700.04200
SECONDARY_SW_QUAD_XY: 696184.86600 5013546.05900
RMSE_XY: 2.08000
IMAGE_SOURCE: BLACK & WHITE FILM
SOURCE_IMAGE_ID: NAPP 9161 068
SOURCE_IMAGE_DATE: 1998 7 12
SOURCE_IMAGE_ID: NAPP 9161 076
SOURCE_IMAGE_DATE: 1998 7 12
SOURCE_IMAGE_ID: NAPP 9161 075
SOURCE_IMAGE_DATE: 1998 7 12
SOURCE_IMAGE_ID: NAPP 9161 070
SOURCE_IMAGE_DATE: 1998 7 12
SOURCE_IMAGE_ID: NAPP 9161 069
SOURCE_IMAGE_DATE: 1998 7 12
SOURCE_DEM_DATE: 1966 1 1
AGENCY: ROCKY MOUNTAIN MAPPING CENTER (RMMC)
PRODUCER: ROCKY MOUNTAIN MAPPING CENTER (RMMC)
PRODUCTION_SYSTEM: ImageStation OrthoPro 02.02.01.06
COMPRESSION: UNDEFINED
STANDARD_VERSION: 1996 12
METADATA_DATE: 2000 2 25
DATA_FILE_SIZE: 44494444
BYTE_COUNT: 5774
