FILENAME: O4510844.NES.1005686.tif
QUADRANGLE_NAME: CASTLE ROCKS
QUADRANT: NE
WEST_LONGITUDE: -108 33 45.00000
EAST_LONGITUDE: -108 30 0.00000
NORTH_LATITUDE: 45 22 30.00000
SOUTH_LATITUDE: 45 18 45.00000
PRODUCTION_DATE: 1999 4 23
RASTER_ORDER: LEFT_RIGHT/TOP_BOTTOM
BAND_ORGANIZATION: SINGLE FILE
BAND_CONTENT: BLACK&WHITE
BAND_CONTENT: UNDEFINED
BAND_CONTENT: UNDEFINED
BITS_PER_PIXEL: 8
SAMPLES_AND_LINES: 5766 7703
HORIZONTAL_DATUM: NAD83
HORIZONTAL_COORDINATE_SYSTEM: UTM
COORDINATE_ZONE: 12
HORIZONTAL_UNITS: METERS
HORIZONTAL_RESOLUTION: 1.00000
SECONDARY_HORIZONTAL_DATUM: NAD27
XY_ORIGIN: 690499.00000 5027950.00000
SECONDARY_XY_ORIGIN: 690558.27000 5027739.57800
NATION: US
NATION: "SCIENCE
STATE: MT
NW_QUAD_CORNER_XY: 690854.32700 5027499.76000
NE_QUAD_CORNER_XY: 695747.99100 5027649.92500
SE_QUAD_CORNERY_XY: 695963.63400 5020706.61900
SW_QUAD_CORNER_XY: 691064.57300 5020556.45000
SECONDARY_NW_QUAD_XY: 690860.00800 5027282.33700
SECONDARY_NE_QUAD_XY: 695753.81700 5027432.50600
SECONDARY_SE_QUAD_XY: 695969.45900 5020489.25100
SECONDARY_SW_QUAD_XY: 691070.25200 5020339.07800
RMSE_XY: 2.40000
IMAGE_SOURCE: BLACK AND WHITE FILM
SOURCE_IMAGE_ID: NAPP 9138 017
SOURCE_IMAGE_DATE: 1996 08 23
SOURCE_IMAGE_ID: NAPP 9138 255
SOURCE_IMAGE_DATE: 1996 08 23
SOURCE_IMAGE_ID: NAPP 9138 016
SOURCE_IMAGE_DATE: 1996 08 23
SOURCE_IMAGE_ID: NAPP 9138 018
SOURCE_IMAGE_DATE: 1996 08 23
SOURCE_DEM_DATE: 1998 00 00
AGENCY: WESTERN MAPPING CENTER (WMC)
PRODUCER: UNDEFINED
PRODUCTION_SYSTEM: GIS/MAGIC
COMPRESSION: UNDEFINED
STANDARD_VERSION: 1996 12
METADATA_DATE: 1999 05 18
DATA_FILE_SIZE: 44421264
BYTE_COUNT: 5766
