FILENAME: O4510844.NWS.1005688.tif
QUADRANGLE_NAME: CASTLE ROCKS
QUADRANT: NW
WEST_LONGITUDE: -108 37 30.00000
EAST_LONGITUDE: -108 33 45.00000
NORTH_LATITUDE: 45 22 30.00000
SOUTH_LATITUDE: 45 18 45.00000
PRODUCTION_DATE: 1999 4 23
RASTER_ORDER: LEFT_RIGHT/TOP_BOTTOM
BAND_ORGANIZATION: SINGLE FILE
BAND_CONTENT: BLACK&WHITE
BAND_CONTENT: UNDEFINED
BAND_CONTENT: UNDEFINED
BITS_PER_PIXEL: 8
SAMPLES_AND_LINES: 5761 7699
HORIZONTAL_DATUM: NAD83
HORIZONTAL_COORDINATE_SYSTEM: UTM
COORDINATE_ZONE: 12
HORIZONTAL_UNITS: METERS
HORIZONTAL_RESOLUTION: 1.00000
SECONDARY_HORIZONTAL_DATUM: NAD27
XY_ORIGIN: 685605.00000 5027800.00000
SECONDARY_XY_ORIGIN: 685664.31700 5027589.62600
NATION: US
NATION: "SCIENCE
STATE: MT
NW_QUAD_CORNER_XY: 685960.66100 5027353.40100
NE_QUAD_CORNER_XY: 690854.32700 5027499.76000
SE_QUAD_CORNERY_XY: 691064.57300 5020556.45000
SW_QUAD_CORNER_XY: 686165.50900 5020410.08800
SECONDARY_NW_QUAD_XY: 685966.19500 5027135.97400
SECONDARY_NE_QUAD_XY: 690860.00800 5027282.33700
SECONDARY_SE_QUAD_XY: 691070.25200 5020339.07800
SECONDARY_SW_QUAD_XY: 686171.04200 5020192.71200
RMSE_XY: 2.40000
IMAGE_SOURCE: BLACK AND WHITE FILM
SOURCE_IMAGE_ID: NAPP 9138 016
SOURCE_IMAGE_DATE: 1996 08 23
SOURCE_IMAGE_ID: NAPP 9138 276
SOURCE_IMAGE_DATE: 1996 08 23
SOURCE_IMAGE_ID: NAPP 9138 277
SOURCE_IMAGE_DATE: 1996 08 23
SOURCE_IMAGE_ID: NAPP 9138 255
SOURCE_IMAGE_DATE: 1996 08 23
SOURCE_IMAGE_ID: NAPP 9138 252
SOURCE_IMAGE_DATE: 1996 08 23
SOURCE_DEM_DATE: 1998 00 00
AGENCY: WESTERN MAPPING CENTER (WMC)
PRODUCER: UNDEFINED
PRODUCTION_SYSTEM: GIS/MAGIC
COMPRESSION: UNDEFINED
STANDARD_VERSION: 1996 12
METADATA_DATE: 1999 05 18
DATA_FILE_SIZE: 44359700
BYTE_COUNT: 5761
