FILENAME: O4510843.SWS.1007289.tif
QUADRANGLE_NAME: SECTION HOUSE DRAW
QUADRANT: SW
WEST_LONGITUDE: -108 45 0.00000
EAST_LONGITUDE: -108 41 15.00000
NORTH_LATITUDE: 45 18 45.00000
SOUTH_LATITUDE: 45 15 0.00000
PRODUCTION_DATE: 1999 4 12
RASTER_ORDER: LEFT_RIGHT/TOP_BOTTOM
BAND_ORGANIZATION: SINGLE FILE
BAND_CONTENT: BLACK&WHITE
BAND_CONTENT: UNDEFINED
BAND_CONTENT: UNDEFINED
BITS_PER_PIXEL: 8
SAMPLES_AND_LINES: 5755 7692
HORIZONTAL_DATUM: NAD83
HORIZONTAL_COORDINATE_SYSTEM: UTM
COORDINATE_ZONE: 12
HORIZONTAL_UNITS: METERS
HORIZONTAL_RESOLUTION: 1.00000
SECONDARY_HORIZONTAL_DATUM: NAD27
XY_ORIGIN: 676012.00000 5020568.00000
SECONDARY_XY_ORIGIN: 676071.38100 5020357.78400
NATION: US
NATION: "SCIENCE
STATE: MT
NW_QUAD_CORNER_XY: 676367.37500 5020128.78100
NE_QUAD_CORNER_XY: 681266.44300 5020267.53200
SE_QUAD_CORNERY_XY: 681465.67800 5013324.27900
SW_QUAD_CORNER_XY: 676561.22000 5013185.52600
SECONDARY_NW_QUAD_XY: 676372.61700 5019911.39600
SECONDARY_NE_QUAD_XY: 681271.83100 5020050.15100
SECONDARY_SE_QUAD_XY: 681471.06400 5013106.95000
SECONDARY_SW_QUAD_XY: 676566.46000 5012968.19300
RMSE_XY: 1.20000
IMAGE_SOURCE: BLACK AND WHITE FILM
SOURCE_IMAGE_ID: NAPP 9140 111
SOURCE_IMAGE_DATE: 1996 08 23
SOURCE_IMAGE_ID: NAPP 9141 016
SOURCE_IMAGE_DATE: 1996 08 23
SOURCE_IMAGE_ID: NAPP 9141 017
SOURCE_IMAGE_DATE: 1996 08 23
SOURCE_IMAGE_ID: NAPP 9140 112
SOURCE_IMAGE_DATE: 1996 08 23
SOURCE_IMAGE_ID: NAPP 9140 110
SOURCE_IMAGE_DATE: 1996 08 23
SOURCE_DEM_DATE: 1998 00 00
AGENCY: WESTERN MAPPING CENTER (WMC)
PRODUCER: UNDEFINED
PRODUCTION_SYSTEM: GIS/MAGIC
COMPRESSION: UNDEFINED
STANDARD_VERSION: 1996 12
METADATA_DATE: 1999 04 28
DATA_FILE_SIZE: 44273215
BYTE_COUNT: 5755
