FILENAME: O4510842.NWS.1007231.tif
QUADRANGLE_NAME: BLUEWATER
QUADRANT: NW
WEST_LONGITUDE: -108 52 30.00000
EAST_LONGITUDE: -108 48 45.00000
NORTH_LATITUDE: 45 22 30.00000
SOUTH_LATITUDE: 45 18 45.00000
PRODUCTION_DATE: 1999 4 2
RASTER_ORDER: LEFT_RIGHT/TOP_BOTTOM
BAND_ORGANIZATION: SINGLE FILE
BAND_CONTENT: BLACK&WHITE
BAND_CONTENT: UNDEFINED
BAND_CONTENT: UNDEFINED
BITS_PER_PIXEL: 8
SAMPLES_AND_LINES: 5740 7685
HORIZONTAL_DATUM: NAD83
HORIZONTAL_COORDINATE_SYSTEM: UTM
COORDINATE_ZONE: 12
HORIZONTAL_UNITS: METERS
HORIZONTAL_RESOLUTION: 1.00000
SECONDARY_HORIZONTAL_DATUM: NAD27
XY_ORIGIN: 666030.00000 5027238.00000
SECONDARY_XY_ORIGIN: 666089.51000 5027027.80200
NATION: US
NATION: "SCIENCE
STATE: MT
NW_QUAD_CORNER_XY: 666385.96700 5026806.02100
NE_QUAD_CORNER_XY: 671279.64500 5026937.15900
SE_QUAD_CORNERY_XY: 671468.30500 5019993.83600
SW_QUAD_CORNER_XY: 666569.23200 5019862.69500
SECONDARY_NW_QUAD_XY: 666390.92000 5026588.57800
SECONDARY_NE_QUAD_XY: 671284.74200 5026719.71900
SECONDARY_SE_QUAD_XY: 671473.40100 5019776.44700
SECONDARY_SW_QUAD_XY: 666574.18300 5019645.30200
RMSE_XY: 1.50000
IMAGE_SOURCE: BLACK AND WHITE FILM
SOURCE_IMAGE_ID: NAPP 9147 024
SOURCE_IMAGE_DATE: 1996 08 24
SOURCE_IMAGE_ID: NAPP 9147 025
SOURCE_IMAGE_DATE: 1996 08 24
SOURCE_IMAGE_ID: NAPP 9147 023
SOURCE_IMAGE_DATE: 1996 08 24
SOURCE_DEM_DATE: 1998 00 00
AGENCY: WESTERN MAPPING CENTER (WMC)
PRODUCER: UNDEFINED
PRODUCTION_SYSTEM: GIS/MAGIC
COMPRESSION: UNDEFINED
STANDARD_VERSION: 1996 12
METADATA_DATE: 1999 04 28
DATA_FILE_SIZE: 44117640
BYTE_COUNT: 5740
