FILENAME: O4510842.SES.1007232.tif
QUADRANGLE_NAME: BLUEWATER
QUADRANT: SE
WEST_LONGITUDE: -108 48 45.00000
EAST_LONGITUDE: -108 45 0.00000
NORTH_LATITUDE: 45 18 45.00000
SOUTH_LATITUDE: 45 15 0.00000
PRODUCTION_DATE: 1999 4 2
RASTER_ORDER: LEFT_RIGHT/TOP_BOTTOM
BAND_ORGANIZATION: SINGLE FILE
BAND_CONTENT: BLACK&WHITE
BAND_CONTENT: UNDEFINED
BAND_CONTENT: UNDEFINED
BITS_PER_PIXEL: 8
SAMPLES_AND_LINES: 5751 7688
HORIZONTAL_DATUM: NAD83
HORIZONTAL_COORDINATE_SYSTEM: UTM
COORDINATE_ZONE: 12
HORIZONTAL_UNITS: METERS
HORIZONTAL_RESOLUTION: 1.00000
SECONDARY_HORIZONTAL_DATUM: NAD27
XY_ORIGIN: 671112.00000 5020429.00000
SECONDARY_XY_ORIGIN: 671171.43100 5020218.81700
NATION: US
NATION: "SCIENCE
STATE: MT
NW_QUAD_CORNER_XY: 671468.30500 5019993.83600
NE_QUAD_CORNER_XY: 676367.37500 5020128.78100
SE_QUAD_CORNERY_XY: 676561.22000 5013185.52600
SW_QUAD_CORNER_XY: 671656.75900 5013050.57800
SECONDARY_NW_QUAD_XY: 671473.40100 5019776.44700
SECONDARY_NE_QUAD_XY: 676372.61700 5019911.39600
SECONDARY_SE_QUAD_XY: 676566.46000 5012968.19300
SECONDARY_SW_QUAD_XY: 671661.85400 5012833.24000
RMSE_XY: 1.60000
IMAGE_SOURCE: BLACK AND WHITE FILM
SOURCE_IMAGE_ID: NAPP 9141 016
SOURCE_IMAGE_DATE: 1996 08 23
SOURCE_IMAGE_ID: NAPP 9147 025
SOURCE_IMAGE_DATE: 1996 08 24
SOURCE_IMAGE_ID: NAPP 9141 015
SOURCE_IMAGE_DATE: 1996 08 23
SOURCE_IMAGE_ID: NAPP 9140 111
SOURCE_IMAGE_DATE: 1996 08 23
SOURCE_DEM_DATE: 1998 00 00
AGENCY: WESTERN MAPPING CENTER (WMC)
PRODUCER: UNDEFINED
PRODUCTION_SYSTEM: GIS/MAGIC
COMPRESSION: UNDEFINED
STANDARD_VERSION: 1996 12
METADATA_DATE: 1999 04 28
DATA_FILE_SIZE: 44219439
BYTE_COUNT: 5751
