FILENAME: O4510842.SWS.1007233.tif
QUADRANGLE_NAME: BLUEWATER
QUADRANT: SW
WEST_LONGITUDE: -108 52 30.00000
EAST_LONGITUDE: -108 48 45.00000
NORTH_LATITUDE: 45 18 45.00000
SOUTH_LATITUDE: 45 15 0.00000
PRODUCTION_DATE: 1999 4 2
RASTER_ORDER: LEFT_RIGHT/TOP_BOTTOM
BAND_ORGANIZATION: SINGLE FILE
BAND_CONTENT: BLACK&WHITE
BAND_CONTENT: UNDEFINED
BAND_CONTENT: UNDEFINED
BITS_PER_PIXEL: 8
SAMPLES_AND_LINES: 5745 7684
HORIZONTAL_DATUM: NAD83
HORIZONTAL_COORDINATE_SYSTEM: UTM
COORDINATE_ZONE: 12
HORIZONTAL_UNITS: METERS
HORIZONTAL_RESOLUTION: 1.00000
SECONDARY_HORIZONTAL_DATUM: NAD27
XY_ORIGIN: 666213.00000 5020294.00000
SECONDARY_XY_ORIGIN: 666272.48100 5020083.85000
NATION: US
NATION: "SCIENCE
STATE: MT
NW_QUAD_CORNER_XY: 666569.23200 5019862.69500
NE_QUAD_CORNER_XY: 671468.30500 5019993.83600
SE_QUAD_CORNERY_XY: 671656.75900 5013050.57800
SW_QUAD_CORNER_XY: 666752.29800 5012919.43400
SECONDARY_NW_QUAD_XY: 666574.18300 5019645.30200
SECONDARY_NE_QUAD_XY: 671473.40100 5019776.44700
SECONDARY_SE_QUAD_XY: 671661.85400 5012833.24000
SECONDARY_SW_QUAD_XY: 666757.24700 5012702.09300
RMSE_XY: 1.80000
IMAGE_SOURCE: BLACK AND WHITE FILM
SOURCE_IMAGE_ID: NAPP 9147 026
SOURCE_IMAGE_DATE: 1996 08 24
SOURCE_IMAGE_ID: NAPP 9147 046
SOURCE_IMAGE_DATE: 1996 08 24
SOURCE_IMAGE_ID: NAPP 9147 027
SOURCE_IMAGE_DATE: 1996 08 24
SOURCE_IMAGE_ID: NAPP 9147 025
SOURCE_IMAGE_DATE: 1996 08 24
SOURCE_DEM_DATE: 1998 00 00
AGENCY: WESTERN MAPPING CENTER (WMC)
PRODUCER: UNDEFINED
PRODUCTION_SYSTEM: GIS/MAGIC
COMPRESSION: UNDEFINED
STANDARD_VERSION: 1996 12
METADATA_DATE: 1999 04 28
DATA_FILE_SIZE: 44150325
BYTE_COUNT: 5745
