FILENAME: O4510841.SWS.1007157.tif
QUADRANGLE_NAME: BRIDGER
QUADRANT: SW
WEST_LONGITUDE: -109 0 0.00000
EAST_LONGITUDE: -108 56 15.00000
NORTH_LATITUDE: 45 18 45.00000
SOUTH_LATITUDE: 45 15 0.00000
PRODUCTION_DATE: 1999 4 13
RASTER_ORDER: LEFT_RIGHT/TOP_BOTTOM
BAND_ORGANIZATION: SINGLE FILE
BAND_CONTENT: BLACK&WHITE
BAND_CONTENT: UNDEFINED
BAND_CONTENT: UNDEFINED
BITS_PER_PIXEL: 8
SAMPLES_AND_LINES: 5734 7677
HORIZONTAL_DATUM: NAD83
HORIZONTAL_COORDINATE_SYSTEM: UTM
COORDINATE_ZONE: 12
HORIZONTAL_UNITS: METERS
HORIZONTAL_RESOLUTION: 1.00000
SECONDARY_HORIZONTAL_DATUM: NAD27
XY_ORIGIN: 656415.00000 5020036.00000
SECONDARY_XY_ORIGIN: 656474.58100 5019825.91600
NATION: US
NATION: "SCIENCE
STATE: MT
NW_QUAD_CORNER_XY: 656771.08200 5019611.82700
NE_QUAD_CORNER_XY: 661670.15800 5019735.35900
SE_QUAD_CORNERY_XY: 661847.83400 5012792.09600
SW_QUAD_CORNER_XY: 656943.37000 5012668.56200
SECONDARY_NW_QUAD_XY: 656775.74100 5019394.42700
SECONDARY_NE_QUAD_XY: 661674.96300 5019517.96200
SECONDARY_SE_QUAD_XY: 661852.63800 5012574.75100
SECONDARY_SW_QUAD_XY: 656948.02800 5012451.21300
RMSE_XY: 1.10000
IMAGE_SOURCE: BLACK AND WHITE FILM
SOURCE_IMAGE_ID: NAPP 9147 286
SOURCE_IMAGE_DATE: 1996 08 24
SOURCE_IMAGE_ID: NAPP 9147 288
SOURCE_IMAGE_DATE: 1996 08 24
SOURCE_IMAGE_ID: NAPP 9147 287
SOURCE_IMAGE_DATE: 1996 08 24
SOURCE_IMAGE_ID: NAPP 9147 046
SOURCE_IMAGE_DATE: 1996 08 24
SOURCE_DEM_DATE: 1998 00 00
AGENCY: WESTERN MAPPING CENTER (WMC)
PRODUCER: UNDEFINED
PRODUCTION_SYSTEM: GIS/MAGIC
COMPRESSION: UNDEFINED
STANDARD_VERSION: 1996 12
METADATA_DATE: 1999 04 28
DATA_FILE_SIZE: 44025652
BYTE_COUNT: 5734
