FILENAME: O4510840.SWS.1007035.tif
QUADRANGLE_NAME: MOTT CREEK
QUADRANT: SW
WEST_LONGITUDE: -108 7 30.00000
EAST_LONGITUDE: -108 3 45.00000
NORTH_LATITUDE: 45 26 15.00000
SOUTH_LATITUDE: 45 22 30.00000
PRODUCTION_DATE: 1999 4 6
RASTER_ORDER: LEFT_RIGHT/TOP_BOTTOM
BAND_ORGANIZATION: SINGLE FILE
BAND_CONTENT: BLACK&WHITE
BAND_CONTENT: UNDEFINED
BAND_CONTENT: UNDEFINED
BITS_PER_PIXEL: 8
SAMPLES_AND_LINES: 5797 7730
HORIZONTAL_DATUM: NAD83
HORIZONTAL_COORDINATE_SYSTEM: UTM
COORDINATE_ZONE: 12
HORIZONTAL_UNITS: METERS
HORIZONTAL_RESOLUTION: 1.00000
SECONDARY_HORIZONTAL_DATUM: NAD27
XY_ORIGIN: 724508.00000 5036052.00000
SECONDARY_XY_ORIGIN: 724567.25500 5035841.16700
NATION: US
NATION: "SCIENCE
STATE: MT
NW_QUAD_CORNER_XY: 724861.60100 5035574.20000
NE_QUAD_CORNER_XY: 729749.83600 5035751.01200
SE_QUAD_CORNERY_XY: 730003.55200 5028807.67900
SW_QUAD_CORNER_XY: 725109.91000 5028630.86100
SECONDARY_NW_QUAD_XY: 724868.30400 5035356.76100
SECONDARY_NE_QUAD_XY: 729756.68400 5035533.57800
SECONDARY_SE_QUAD_XY: 730010.39900 5028590.29500
SECONDARY_SW_QUAD_XY: 725116.61100 5028413.47200
RMSE_XY: 2.00000
IMAGE_SOURCE: BLACK AND WHITE FILM
SOURCE_IMAGE_ID: NAPP 9142 268
SOURCE_IMAGE_DATE: 1996 08 24
SOURCE_IMAGE_ID: NAPP 9143 018
SOURCE_IMAGE_DATE: 1996 08 24
SOURCE_IMAGE_ID: NAPP 9143 019
SOURCE_IMAGE_DATE: 1996 08 24
SOURCE_IMAGE_ID: NAPP 9142 035
SOURCE_IMAGE_DATE: 1996 08 24
SOURCE_DEM_DATE: 1969 00 00
AGENCY: WESTERN MAPPING CENTER (WMC)
PRODUCER: UNDEFINED
PRODUCTION_SYSTEM: GIS/MAGIC
COMPRESSION: UNDEFINED
STANDARD_VERSION: 1996 12
METADATA_DATE: 1999 04 28
DATA_FILE_SIZE: 44816607
BYTE_COUNT: 5797
