FILENAME: O4510839.NWS.1006959.tif
QUADRANGLE_NAME: BEAR COULEE
QUADRANT: NW
WEST_LONGITUDE: -108 15 0.00000
EAST_LONGITUDE: -108 11 15.00000
NORTH_LATITUDE: 45 30 0.00000
SOUTH_LATITUDE: 45 26 15.00000
PRODUCTION_DATE: 1999 4 6
RASTER_ORDER: LEFT_RIGHT/TOP_BOTTOM
BAND_ORGANIZATION: SINGLE FILE
BAND_CONTENT: BLACK&WHITE
BAND_CONTENT: UNDEFINED
BAND_CONTENT: UNDEFINED
BITS_PER_PIXEL: 8
SAMPLES_AND_LINES: 5782 7722
HORIZONTAL_DATUM: NAD83
HORIZONTAL_COORDINATE_SYSTEM: UTM
COORDINATE_ZONE: 12
HORIZONTAL_UNITS: METERS
HORIZONTAL_RESOLUTION: 1.00000
SECONDARY_HORIZONTAL_DATUM: NAD27
XY_ORIGIN: 714493.00000 5042645.00000
SECONDARY_XY_ORIGIN: 714552.29200 5042434.11500
NATION: US
NATION: "SCIENCE
STATE: MT
NW_QUAD_CORNER_XY: 714847.36700 5042175.40800
NE_QUAD_CORNER_XY: 719730.19700 5042344.59800
SE_QUAD_CORNERY_XY: 719973.36300 5035401.19600
SW_QUAD_CORNER_XY: 715085.12000 5035232.00000
SECONDARY_NW_QUAD_XY: 714853.77900 5041957.90900
SECONDARY_NE_QUAD_XY: 719736.75500 5042127.10400
SECONDARY_SE_QUAD_XY: 719979.91900 5035183.75200
SECONDARY_SW_QUAD_XY: 715091.53100 5035014.55100
RMSE_XY: 2.30000
IMAGE_SOURCE: BLACK AND WHITE FILM
SOURCE_IMAGE_ID: NAPP 9146 061
SOURCE_IMAGE_DATE: 1996 08 24
SOURCE_IMAGE_ID: NAPP 9134 019
SOURCE_IMAGE_DATE: 1996 08 10
SOURCE_IMAGE_ID: NAPP 9146 060
SOURCE_IMAGE_DATE: 1996 08 24
SOURCE_DEM_DATE: 1980 00 00
AGENCY: WESTERN MAPPING CENTER (WMC)
PRODUCER: UNDEFINED
PRODUCTION_SYSTEM: GIS/MAGIC
COMPRESSION: UNDEFINED
STANDARD_VERSION: 1996 12
METADATA_DATE: 1999 04 30
DATA_FILE_SIZE: 44654386
BYTE_COUNT: 5782
