FILENAME: O4510839.SES.1006960.tif
QUADRANGLE_NAME: BEAR COULEE
QUADRANT: SE
WEST_LONGITUDE: -108 11 15.00000
EAST_LONGITUDE: -108 7 30.00000
NORTH_LATITUDE: 45 26 15.00000
SOUTH_LATITUDE: 45 22 30.00000
PRODUCTION_DATE: 1999 4 6
RASTER_ORDER: LEFT_RIGHT/TOP_BOTTOM
BAND_ORGANIZATION: SINGLE FILE
BAND_CONTENT: BLACK&WHITE
BAND_CONTENT: UNDEFINED
BAND_CONTENT: UNDEFINED
BITS_PER_PIXEL: 8
SAMPLES_AND_LINES: 5792 7726
HORIZONTAL_DATUM: NAD83
HORIZONTAL_COORDINATE_SYSTEM: UTM
COORDINATE_ZONE: 12
HORIZONTAL_UNITS: METERS
HORIZONTAL_RESOLUTION: 1.00000
SECONDARY_HORIZONTAL_DATUM: NAD27
XY_ORIGIN: 719619.00000 5035875.00000
SECONDARY_XY_ORIGIN: 719678.25300 5035664.15800
NATION: US
NATION: "SCIENCE
STATE: MT
NW_QUAD_CORNER_XY: 719973.36300 5035401.19600
NE_QUAD_CORNER_XY: 724861.60100 5035574.20000
SE_QUAD_CORNERY_XY: 725109.91000 5028630.86100
SW_QUAD_CORNER_XY: 720216.26500 5028457.85200
SECONDARY_NW_QUAD_XY: 719979.91900 5035183.75200
SECONDARY_NE_QUAD_XY: 724868.30400 5035356.76100
SECONDARY_SE_QUAD_XY: 725116.61100 5028413.47200
SECONDARY_SW_QUAD_XY: 720222.82000 5028240.45800
RMSE_XY: 1.10000
IMAGE_SOURCE: BLACK AND WHITE FILM
SOURCE_IMAGE_ID: NAPP 9143 019
SOURCE_IMAGE_DATE: 1996 08 24
SOURCE_IMAGE_ID: NAPP 9143 018
SOURCE_IMAGE_DATE: 1996 08 24
SOURCE_DEM_DATE: 1980 00 00
AGENCY: WESTERN MAPPING CENTER (WMC)
PRODUCER: UNDEFINED
PRODUCTION_SYSTEM: GIS/MAGIC
COMPRESSION: UNDEFINED
STANDARD_VERSION: 1996 12
METADATA_DATE: 1999 04 30
DATA_FILE_SIZE: 44754784
BYTE_COUNT: 5792
