FILENAME: O4510838.NES.1006921.tif
QUADRANGLE_NAME: CHILKOOT COULEE
QUADRANT: NE
WEST_LONGITUDE: -108 18 45.00000
EAST_LONGITUDE: -108 15 0.00000
NORTH_LATITUDE: 45 30 0.00000
SOUTH_LATITUDE: 45 26 15.00000
PRODUCTION_DATE: 1999 4 5
RASTER_ORDER: LEFT_RIGHT/TOP_BOTTOM
BAND_ORGANIZATION: SINGLE FILE
BAND_CONTENT: BLACK&WHITE
BAND_CONTENT: UNDEFINED
BAND_CONTENT: UNDEFINED
BITS_PER_PIXEL: 8
SAMPLES_AND_LINES: 5777 7719
HORIZONTAL_DATUM: NAD83
HORIZONTAL_COORDINATE_SYSTEM: UTM
COORDINATE_ZONE: 12
HORIZONTAL_UNITS: METERS
HORIZONTAL_RESOLUTION: 1.00000
SECONDARY_HORIZONTAL_DATUM: NAD27
XY_ORIGIN: 709610.00000 5042476.00000
SECONDARY_XY_ORIGIN: 709669.28800 5042265.18400
NATION: US
NATION: "SCIENCE
STATE: MT
NW_QUAD_CORNER_XY: 709964.53200 5042010.02600
NE_QUAD_CORNER_XY: 714847.36700 5042175.40800
SE_QUAD_CORNERY_XY: 715085.12000 5035232.00000
SW_QUAD_CORNER_XY: 710196.87400 5035066.61200
SECONDARY_NW_QUAD_XY: 709970.79900 5041792.52200
SECONDARY_NE_QUAD_XY: 714853.77900 5041957.90900
SECONDARY_SE_QUAD_XY: 715091.53100 5035014.55100
SECONDARY_SW_QUAD_XY: 710203.13900 5034849.15800
RMSE_XY: 3.20000
IMAGE_SOURCE: BLACK AND WHITE FILM
SOURCE_IMAGE_ID: NAPP 9146 060
SOURCE_IMAGE_DATE: 1996 08 24
SOURCE_IMAGE_ID: NAPP 9137 095
SOURCE_IMAGE_DATE: 1996 08 23
SOURCE_IMAGE_ID: NAPP 9134 017
SOURCE_IMAGE_DATE: 1996 08 10
SOURCE_IMAGE_ID: NAPP 9134 019
SOURCE_IMAGE_DATE: 1996 08 10
SOURCE_IMAGE_ID: NAPP 9146 062
SOURCE_IMAGE_DATE: 1996 08 24
SOURCE_DEM_DATE: 1998 00 00
AGENCY: WESTERN MAPPING CENTER (WMC)
PRODUCER: UNDEFINED
PRODUCTION_SYSTEM: GIS/MAGIC
COMPRESSION: UNDEFINED
STANDARD_VERSION: 1996 12
METADATA_DATE: 1999 04 30
DATA_FILE_SIZE: 44598440
BYTE_COUNT: 5777
