FILENAME: O4510838.NWS.1006922.tif
QUADRANGLE_NAME: CHILKOOT COULEE
QUADRANT: NW
WEST_LONGITUDE: -108 22 30.00000
EAST_LONGITUDE: -108 18 45.00000
NORTH_LATITUDE: 45 30 0.00000
SOUTH_LATITUDE: 45 26 15.00000
PRODUCTION_DATE: 1999 4 5
RASTER_ORDER: LEFT_RIGHT/TOP_BOTTOM
BAND_ORGANIZATION: SINGLE FILE
BAND_CONTENT: BLACK&WHITE
BAND_CONTENT: UNDEFINED
BAND_CONTENT: UNDEFINED
BITS_PER_PIXEL: 8
SAMPLES_AND_LINES: 5771 7715
HORIZONTAL_DATUM: NAD83
HORIZONTAL_COORDINATE_SYSTEM: UTM
COORDINATE_ZONE: 12
HORIZONTAL_UNITS: METERS
HORIZONTAL_RESOLUTION: 1.00000
SECONDARY_HORIZONTAL_DATUM: NAD27
XY_ORIGIN: 704727.00000 5042311.00000
SECONDARY_XY_ORIGIN: 704786.28300 5042100.24500
NATION: US
NATION: "SCIENCE
STATE: MT
NW_QUAD_CORNER_XY: 705081.69300 5041848.45100
NE_QUAD_CORNER_XY: 709964.53200 5042010.02600
SE_QUAD_CORNERY_XY: 710196.87400 5035066.61200
SW_QUAD_CORNER_XY: 705308.62400 5034905.03200
SECONDARY_NW_QUAD_XY: 705087.81400 5041630.94300
SECONDARY_NE_QUAD_XY: 709970.79900 5041792.52200
SECONDARY_SE_QUAD_XY: 710203.13900 5034849.15800
SECONDARY_SW_QUAD_XY: 705314.74300 5034687.57300
RMSE_XY: 1.80000
IMAGE_SOURCE: BLACK AND WHITE FILM
SOURCE_IMAGE_ID: NAPP 9137 096
SOURCE_IMAGE_DATE: 1996 08 23
SOURCE_IMAGE_ID: NAPP 9137 126
SOURCE_IMAGE_DATE: 1996 08 23
SOURCE_IMAGE_ID: NAPP 9137 097
SOURCE_IMAGE_DATE: 1996 08 23
SOURCE_IMAGE_ID: NAPP 9137 095
SOURCE_IMAGE_DATE: 1996 08 23
SOURCE_IMAGE_ID: NAPP 9134 019
SOURCE_IMAGE_DATE: 1996 08 10
SOURCE_DEM_DATE: 1998 00 00
AGENCY: WESTERN MAPPING CENTER (WMC)
PRODUCER: UNDEFINED
PRODUCTION_SYSTEM: GIS/MAGIC
COMPRESSION: UNDEFINED
STANDARD_VERSION: 1996 12
METADATA_DATE: 1999 04 30
DATA_FILE_SIZE: 44529036
BYTE_COUNT: 5771
