FILENAME: O4510838.SWS.1006924.tif
QUADRANGLE_NAME: CHILKOOT COULEE
QUADRANT: SW
WEST_LONGITUDE: -108 22 30.00000
EAST_LONGITUDE: -108 18 45.00000
NORTH_LATITUDE: 45 26 15.00000
SOUTH_LATITUDE: 45 22 30.00000
PRODUCTION_DATE: 1999 4 5
RASTER_ORDER: LEFT_RIGHT/TOP_BOTTOM
BAND_ORGANIZATION: SINGLE FILE
BAND_CONTENT: BLACK&WHITE
BAND_CONTENT: UNDEFINED
BAND_CONTENT: UNDEFINED
BITS_PER_PIXEL: 8
SAMPLES_AND_LINES: 5776 7715
HORIZONTAL_DATUM: NAD83
HORIZONTAL_COORDINATE_SYSTEM: UTM
COORDINATE_ZONE: 12
HORIZONTAL_UNITS: METERS
HORIZONTAL_RESOLUTION: 1.00000
SECONDARY_HORIZONTAL_DATUM: NAD27
XY_ORIGIN: 704954.00000 5035367.00000
SECONDARY_XY_ORIGIN: 705013.25000 5035156.30500
NATION: US
NATION: "SCIENCE
STATE: MT
NW_QUAD_CORNER_XY: 705308.62400 5034905.03200
NE_QUAD_CORNER_XY: 710196.87400 5035066.61200
SE_QUAD_CORNERY_XY: 710428.96500 5028123.25900
SW_QUAD_CORNER_XY: 705535.31000 5027961.67400
SECONDARY_NW_QUAD_XY: 705314.74300 5034687.57300
SECONDARY_NE_QUAD_XY: 710203.13900 5034849.15800
SECONDARY_SE_QUAD_XY: 710435.22800 5027905.85400
SECONDARY_SW_QUAD_XY: 705541.42800 5027744.26400
RMSE_XY: 1.90000
IMAGE_SOURCE: BLACK AND WHITE FILM
SOURCE_IMAGE_ID: NAPP 9137 098
SOURCE_IMAGE_DATE: 1996 08 23
SOURCE_IMAGE_ID: NAPP 9137 099
SOURCE_IMAGE_DATE: 1996 08 23
SOURCE_IMAGE_ID: NAPP 9137 097
SOURCE_IMAGE_DATE: 1996 08 23
SOURCE_DEM_DATE: 1998 00 00
AGENCY: WESTERN MAPPING CENTER (WMC)
PRODUCER: UNDEFINED
PRODUCTION_SYSTEM: GIS/MAGIC
COMPRESSION: UNDEFINED
STANDARD_VERSION: 1996 12
METADATA_DATE: 1999 04 30
DATA_FILE_SIZE: 44567616
BYTE_COUNT: 5776
