FILENAME: O4510837.NES.1007368.tif
QUADRANGLE_NAME: DEEP CREEK
QUADRANT: NE
WEST_LONGITUDE: -108 26 15.00000
EAST_LONGITUDE: -108 22 30.00000
NORTH_LATITUDE: 45 30 0.00000
SOUTH_LATITUDE: 45 26 15.00000
PRODUCTION_DATE: 1999 4 5
RASTER_ORDER: LEFT_RIGHT/TOP_BOTTOM
BAND_ORGANIZATION: SINGLE FILE
BAND_CONTENT: BLACK&WHITE
BAND_CONTENT: UNDEFINED
BAND_CONTENT: UNDEFINED
BITS_PER_PIXEL: 8
SAMPLES_AND_LINES: 5766 7711
HORIZONTAL_DATUM: NAD83
HORIZONTAL_COORDINATE_SYSTEM: UTM
COORDINATE_ZONE: 12
HORIZONTAL_UNITS: METERS
HORIZONTAL_RESOLUTION: 1.00000
SECONDARY_HORIZONTAL_DATUM: NAD27
XY_ORIGIN: 699844.00000 5042149.00000
SECONDARY_XY_ORIGIN: 699903.27800 5041938.30700
NATION: US
NATION: "SCIENCE
STATE: MT
NW_QUAD_CORNER_XY: 700198.84900 5041690.68300
NE_QUAD_CORNER_XY: 705081.69300 5041848.45100
SE_QUAD_CORNERY_XY: 705308.62400 5034905.03200
SW_QUAD_CORNER_XY: 700420.37100 5034747.25900
SECONDARY_NW_QUAD_XY: 700204.82500 5041473.17000
SECONDARY_NE_QUAD_XY: 705087.81400 5041630.94300
SECONDARY_SE_QUAD_XY: 705314.74300 5034687.57300
SECONDARY_SW_QUAD_XY: 700426.34400 5034529.79500
RMSE_XY: 3.00000
IMAGE_SOURCE: BLACK AND WHITE FILM
SOURCE_IMAGE_ID: NAPP 9137 127
SOURCE_IMAGE_DATE: 1996 08 23
SOURCE_IMAGE_ID: NAPP 9137 126
SOURCE_IMAGE_DATE: 1996 08 23
SOURCE_IMAGE_ID: NAPP 9137 128
SOURCE_IMAGE_DATE: 1996 08 23
SOURCE_IMAGE_ID: NAPP 9137 095
SOURCE_IMAGE_DATE: 1996 08 23
SOURCE_DEM_DATE: 1998 00 00
AGENCY: WESTERN MAPPING CENTER (WMC)
PRODUCER: UNDEFINED
PRODUCTION_SYSTEM: GIS/MAGIC
COMPRESSION: UNDEFINED
STANDARD_VERSION: 1996 12
METADATA_DATE: 1999 04 28
DATA_FILE_SIZE: 44467392
BYTE_COUNT: 5766
