FILENAME: O4510837.SWS.1007376.tif
QUADRANGLE_NAME: DEEP CREEK
QUADRANT: SW
WEST_LONGITUDE: -108 30 0.00000
EAST_LONGITUDE: -108 26 15.00000
NORTH_LATITUDE: 45 26 15.00000
SOUTH_LATITUDE: 45 22 30.00000
PRODUCTION_DATE: 1999 4 5
RASTER_ORDER: LEFT_RIGHT/TOP_BOTTOM
BAND_ORGANIZATION: SINGLE FILE
BAND_CONTENT: BLACK&WHITE
BAND_CONTENT: UNDEFINED
BAND_CONTENT: UNDEFINED
BITS_PER_PIXEL: 8
SAMPLES_AND_LINES: 5766 7708
HORIZONTAL_DATUM: NAD83
HORIZONTAL_COORDINATE_SYSTEM: UTM
COORDINATE_ZONE: 12
HORIZONTAL_UNITS: METERS
HORIZONTAL_RESOLUTION: 1.00000
SECONDARY_HORIZONTAL_DATUM: NAD27
XY_ORIGIN: 695177.00000 5035048.00000
SECONDARY_XY_ORIGIN: 695236.24900 5034837.45200
NATION: US
NATION: "SCIENCE
STATE: MT
NW_QUAD_CORNER_XY: 695532.11400 5034593.29200
NE_QUAD_CORNER_XY: 700420.37100 5034747.25900
SE_QUAD_CORNERY_XY: 700641.65200 5027803.89600
SW_QUAD_CORNER_XY: 695747.99100 5027649.92500
SECONDARY_NW_QUAD_XY: 695537.94100 5034375.82400
SECONDARY_NE_QUAD_XY: 700426.34400 5034529.79500
SECONDARY_SE_QUAD_XY: 700647.62400 5027586.48200
SECONDARY_SW_QUAD_XY: 695753.81700 5027432.50600
RMSE_XY: 1.50000
IMAGE_SOURCE: BLACK AND WHITE FILM
SOURCE_IMAGE_ID: NAPP 9137 244
SOURCE_IMAGE_DATE: 1996 08 23
SOURCE_IMAGE_ID: NAPP 9138 019
SOURCE_IMAGE_DATE: 1996 08 23
SOURCE_IMAGE_ID: NAPP 9137 245
SOURCE_IMAGE_DATE: 1996 08 23
SOURCE_IMAGE_ID: NAPP 9137 243
SOURCE_IMAGE_DATE: 1996 08 23
SOURCE_DEM_DATE: 1998 00 00
AGENCY: WESTERN MAPPING CENTER (WMC)
PRODUCER: UNDEFINED
PRODUCTION_SYSTEM: GIS/MAGIC
COMPRESSION: UNDEFINED
STANDARD_VERSION: 1996 12
METADATA_DATE: 1999 04 28
DATA_FILE_SIZE: 44450094
BYTE_COUNT: 5766
