FILENAME: O4510836.NES.1005726.tif
QUADRANGLE_NAME: PRYOR
QUADRANT: NE
WEST_LONGITUDE: -108 33 45.00000
EAST_LONGITUDE: -108 30 0.00000
NORTH_LATITUDE: 45 30 0.00000
SOUTH_LATITUDE: 45 26 15.00000
PRODUCTION_DATE: 1999 4 23
RASTER_ORDER: LEFT_RIGHT/TOP_BOTTOM
BAND_ORGANIZATION: SINGLE FILE
BAND_CONTENT: BLACK&WHITE
BAND_CONTENT: UNDEFINED
BAND_CONTENT: UNDEFINED
BITS_PER_PIXEL: 8
SAMPLES_AND_LINES: 5756 7703
HORIZONTAL_DATUM: NAD83
HORIZONTAL_COORDINATE_SYSTEM: UTM
COORDINATE_ZONE: 12
HORIZONTAL_UNITS: METERS
HORIZONTAL_RESOLUTION: 1.00000
SECONDARY_HORIZONTAL_DATUM: NAD27
XY_ORIGIN: 690078.00000 5041837.00000
SECONDARY_XY_ORIGIN: 690137.32200 5041626.42100
NATION: US
NATION: "SCIENCE
STATE: MT
NW_QUAD_CORNER_XY: 690433.15100 5041386.56700
NE_QUAD_CORNER_XY: 695316.00200 5041536.72200
SE_QUAD_CORNERY_XY: 695532.11400 5034593.29200
SW_QUAD_CORNER_XY: 690643.85300 5034443.13200
SECONDARY_NW_QUAD_XY: 690438.83500 5041169.04500
SECONDARY_NE_QUAD_XY: 695321.83200 5041319.20400
SECONDARY_SE_QUAD_XY: 695537.94100 5034375.82400
SECONDARY_SW_QUAD_XY: 690649.53500 5034225.65900
RMSE_XY: 1.30000
IMAGE_SOURCE: BLACK AND WHITE FILM
SOURCE_IMAGE_ID: NAPP 9138 021
SOURCE_IMAGE_DATE: 1996 08 23
SOURCE_IMAGE_ID: NAPP 9138 022
SOURCE_IMAGE_DATE: 1996 08 23
SOURCE_IMAGE_ID: NAPP 9137 242
SOURCE_IMAGE_DATE: 1996 08 23
SOURCE_DEM_DATE: 1997 01 01
AGENCY: WESTERN MAPPING CENTER (WMC)
PRODUCER: UNDEFINED
PRODUCTION_SYSTEM: GIS/MAGIC
COMPRESSION: UNDEFINED
STANDARD_VERSION: 1996 12
METADATA_DATE: 1999 05 18
DATA_FILE_SIZE: 44344224
BYTE_COUNT: 5756
