FILENAME: O4510836.NWS.1005728.tif
QUADRANGLE_NAME: PRYOR
QUADRANT: NW
WEST_LONGITUDE: -108 37 30.00000
EAST_LONGITUDE: -108 33 45.00000
NORTH_LATITUDE: 45 30 0.00000
SOUTH_LATITUDE: 45 26 15.00000
PRODUCTION_DATE: 1999 4 23
RASTER_ORDER: LEFT_RIGHT/TOP_BOTTOM
BAND_ORGANIZATION: SINGLE FILE
BAND_CONTENT: BLACK&WHITE
BAND_CONTENT: UNDEFINED
BAND_CONTENT: UNDEFINED
BITS_PER_PIXEL: 8
SAMPLES_AND_LINES: 5750 7700
HORIZONTAL_DATUM: NAD83
HORIZONTAL_COORDINATE_SYSTEM: UTM
COORDINATE_ZONE: 12
HORIZONTAL_UNITS: METERS
HORIZONTAL_RESOLUTION: 1.00000
SECONDARY_HORIZONTAL_DATUM: NAD27
XY_ORIGIN: 685195.00000 5041687.00000
SECONDARY_XY_ORIGIN: 685254.36900 5041476.48000
NATION: US
NATION: "SCIENCE
STATE: MT
NW_QUAD_CORNER_XY: 685550.29600 5041240.21700
NE_QUAD_CORNER_XY: 690433.15100 5041386.56700
SE_QUAD_CORNERY_XY: 690643.85300 5034443.13200
SW_QUAD_CORNER_XY: 685755.59000 5034296.77800
SECONDARY_NW_QUAD_XY: 685555.83400 5041022.69100
SECONDARY_NE_QUAD_XY: 690438.83500 5041169.04500
SECONDARY_SE_QUAD_XY: 690649.53500 5034225.65900
SECONDARY_SW_QUAD_XY: 685761.12600 5034079.30000
RMSE_XY: 1.40000
IMAGE_SOURCE: BLACK AND WHITE FILM
SOURCE_IMAGE_ID: NAPP 9138 250
SOURCE_IMAGE_DATE: 1996 08 23
SOURCE_IMAGE_ID: NAPP 9138 251
SOURCE_IMAGE_DATE: 1996 08 23
SOURCE_IMAGE_ID: NAPP 9138 249
SOURCE_IMAGE_DATE: 1996 08 23
SOURCE_IMAGE_ID: NAPP 9138 021
SOURCE_IMAGE_DATE: 1996 08 23
SOURCE_IMAGE_ID: NAPP 9138 022
SOURCE_IMAGE_DATE: 1996 08 23
SOURCE_DEM_DATE: 1997 01 01
AGENCY: WESTERN MAPPING CENTER (WMC)
PRODUCER: UNDEFINED
PRODUCTION_SYSTEM: GIS/MAGIC
COMPRESSION: UNDEFINED
STANDARD_VERSION: 1996 12
METADATA_DATE: 1999 05 18
DATA_FILE_SIZE: 44280750
BYTE_COUNT: 5750
