FILENAME: O4510836.SES.1005730.tif
QUADRANGLE_NAME: PRYOR
QUADRANT: SE
WEST_LONGITUDE: -108 33 45.00000
EAST_LONGITUDE: -108 30 0.00000
NORTH_LATITUDE: 45 26 15.00000
SOUTH_LATITUDE: 45 22 30.00000
PRODUCTION_DATE: 1999 4 23
RASTER_ORDER: LEFT_RIGHT/TOP_BOTTOM
BAND_ORGANIZATION: SINGLE FILE
BAND_CONTENT: BLACK&WHITE
BAND_CONTENT: UNDEFINED
BAND_CONTENT: UNDEFINED
BITS_PER_PIXEL: 8
SAMPLES_AND_LINES: 5760 7704
HORIZONTAL_DATUM: NAD83
HORIZONTAL_COORDINATE_SYSTEM: UTM
COORDINATE_ZONE: 12
HORIZONTAL_UNITS: METERS
HORIZONTAL_RESOLUTION: 1.00000
SECONDARY_HORIZONTAL_DATUM: NAD27
XY_ORIGIN: 690289.00000 5034894.00000
SECONDARY_XY_ORIGIN: 690348.29600 5034683.49900
NATION: US
NATION: "SCIENCE
STATE: MT
NW_QUAD_CORNER_XY: 690643.85300 5034443.13200
NE_QUAD_CORNER_XY: 695532.11400 5034593.29200
SE_QUAD_CORNERY_XY: 695747.99100 5027649.92500
SW_QUAD_CORNER_XY: 690854.32700 5027499.76000
SECONDARY_NW_QUAD_XY: 690649.53500 5034225.65900
SECONDARY_NE_QUAD_XY: 695537.94100 5034375.82400
SECONDARY_SE_QUAD_XY: 695753.81700 5027432.50600
SECONDARY_SW_QUAD_XY: 690860.00800 5027282.33700
RMSE_XY: 1.90000
IMAGE_SOURCE: BLACK AND WHITE FILM
SOURCE_IMAGE_ID: NAPP 9138 019
SOURCE_IMAGE_DATE: 1996 08 23
SOURCE_IMAGE_ID: NAPP 9138 018
SOURCE_IMAGE_DATE: 1996 08 23
SOURCE_IMAGE_ID: NAPP 9138 020
SOURCE_IMAGE_DATE: 1996 08 23
SOURCE_DEM_DATE: 1997 01 01
AGENCY: WESTERN MAPPING CENTER (WMC)
PRODUCER: UNDEFINED
PRODUCTION_SYSTEM: GIS/MAGIC
COMPRESSION: UNDEFINED
STANDARD_VERSION: 1996 12
METADATA_DATE: 1999 05 18
DATA_FILE_SIZE: 44380800
BYTE_COUNT: 5760
