FILENAME: O4510835.NES.1007282.tif
QUADRANGLE_NAME: PRYOR NW
QUADRANT: NE
WEST_LONGITUDE: -108 41 15.00000
EAST_LONGITUDE: -108 37 30.00000
NORTH_LATITUDE: 45 30 0.00000
SOUTH_LATITUDE: 45 26 15.00000
PRODUCTION_DATE: 1999 4 12
RASTER_ORDER: LEFT_RIGHT/TOP_BOTTOM
BAND_ORGANIZATION: SINGLE FILE
BAND_CONTENT: BLACK&WHITE
BAND_CONTENT: UNDEFINED
BAND_CONTENT: UNDEFINED
BITS_PER_PIXEL: 8
SAMPLES_AND_LINES: 5745 7696
HORIZONTAL_DATUM: NAD83
HORIZONTAL_COORDINATE_SYSTEM: UTM
COORDINATE_ZONE: 12
HORIZONTAL_UNITS: METERS
HORIZONTAL_RESOLUTION: 1.00000
SECONDARY_HORIZONTAL_DATUM: NAD27
XY_ORIGIN: 680312.00000 5041541.00000
SECONDARY_XY_ORIGIN: 680371.41700 5041330.53900
NATION: US
NATION: "SCIENCE
STATE: MT
NW_QUAD_CORNER_XY: 680667.43800 5041097.67300
NE_QUAD_CORNER_XY: 685550.29600 5041240.21700
SE_QUAD_CORNERY_XY: 685755.59000 5034296.77800
SW_QUAD_CORNER_XY: 680867.32300 5034154.22900
SECONDARY_NW_QUAD_XY: 680672.83000 5040880.14300
SECONDARY_NE_QUAD_XY: 685555.83400 5041022.69100
SECONDARY_SE_QUAD_XY: 685761.12600 5034079.30000
SECONDARY_SW_QUAD_XY: 680872.71300 5033936.74700
RMSE_XY: 2.30000
IMAGE_SOURCE: BLACK AND WHITE FILM
SOURCE_IMAGE_ID: NAPP 9138 281
SOURCE_IMAGE_DATE: 1996 08 23
SOURCE_IMAGE_ID: NAPP 9140 106
SOURCE_IMAGE_DATE: 1996 08 23
SOURCE_IMAGE_ID: NAPP 9140 104
SOURCE_IMAGE_DATE: 1996 08 23
SOURCE_IMAGE_ID: NAPP 9138 280
SOURCE_IMAGE_DATE: 1996 08 23
SOURCE_DEM_DATE: 1998 00 00
AGENCY: WESTERN MAPPING CENTER (WMC)
PRODUCER: UNDEFINED
PRODUCTION_SYSTEM: GIS/MAGIC
COMPRESSION: UNDEFINED
STANDARD_VERSION: 1996 12
METADATA_DATE: 1999 04 28
DATA_FILE_SIZE: 44219265
BYTE_COUNT: 5745
