FILENAME: O4510835.NWS.1007283.tif
QUADRANGLE_NAME: PRYOR NW
QUADRANT: NW
WEST_LONGITUDE: -108 45 0.00000
EAST_LONGITUDE: -108 41 15.00000
NORTH_LATITUDE: 45 30 0.00000
SOUTH_LATITUDE: 45 26 15.00000
PRODUCTION_DATE: 1999 4 12
RASTER_ORDER: LEFT_RIGHT/TOP_BOTTOM
BAND_ORGANIZATION: SINGLE FILE
BAND_CONTENT: BLACK&WHITE
BAND_CONTENT: UNDEFINED
BAND_CONTENT: UNDEFINED
BITS_PER_PIXEL: 8
SAMPLES_AND_LINES: 5740 7692
HORIZONTAL_DATUM: NAD83
HORIZONTAL_COORDINATE_SYSTEM: UTM
COORDINATE_ZONE: 12
HORIZONTAL_UNITS: METERS
HORIZONTAL_RESOLUTION: 1.00000
SECONDARY_HORIZONTAL_DATUM: NAD27
XY_ORIGIN: 675429.00000 5041398.00000
SECONDARY_XY_ORIGIN: 675488.46400 5041187.59800
NATION: US
NATION: "SCIENCE
STATE: MT
NW_QUAD_CORNER_XY: 675784.57500 5040958.93500
NE_QUAD_CORNER_XY: 680667.43800 5041097.67300
SE_QUAD_CORNERY_XY: 680867.32300 5034154.22900
SW_QUAD_CORNER_XY: 675979.05300 5034015.48600
SECONDARY_NW_QUAD_XY: 675789.82200 5040741.40000
SECONDARY_NE_QUAD_XY: 680672.83000 5040880.14300
SECONDARY_SE_QUAD_XY: 680872.71300 5033936.74700
SECONDARY_SW_QUAD_XY: 675984.29700 5033798.00000
RMSE_XY: 1.40000
IMAGE_SOURCE: BLACK AND WHITE FILM
SOURCE_IMAGE_ID: NAPP 9140 105
SOURCE_IMAGE_DATE: 1996 08 23
SOURCE_IMAGE_ID: NAPP 9141 021
SOURCE_IMAGE_DATE: 1996 08 23
SOURCE_IMAGE_ID: NAPP 9140 106
SOURCE_IMAGE_DATE: 1996 08 23
SOURCE_IMAGE_ID: NAPP 9140 104
SOURCE_IMAGE_DATE: 1996 08 23
SOURCE_DEM_DATE: 1998 00 00
AGENCY: WESTERN MAPPING CENTER (WMC)
PRODUCER: UNDEFINED
PRODUCTION_SYSTEM: GIS/MAGIC
COMPRESSION: UNDEFINED
STANDARD_VERSION: 1996 12
METADATA_DATE: 1999 04 28
DATA_FILE_SIZE: 44157820
BYTE_COUNT: 5740
