FILENAME: O4510834.NWS.1007227.tif
QUADRANGLE_NAME: EDGAR
QUADRANT: NW
WEST_LONGITUDE: -108 52 30.00000
EAST_LONGITUDE: -108 48 45.00000
NORTH_LATITUDE: 45 30 0.00000
SOUTH_LATITUDE: 45 26 15.00000
PRODUCTION_DATE: 1999 4 2
RASTER_ORDER: LEFT_RIGHT/TOP_BOTTOM
BAND_ORGANIZATION: SINGLE FILE
BAND_CONTENT: BLACK&WHITE
BAND_CONTENT: UNDEFINED
BAND_CONTENT: UNDEFINED
BITS_PER_PIXEL: 8
SAMPLES_AND_LINES: 5729 7685
HORIZONTAL_DATUM: NAD83
HORIZONTAL_COORDINATE_SYSTEM: UTM
COORDINATE_ZONE: 12
HORIZONTAL_UNITS: METERS
HORIZONTAL_RESOLUTION: 1.00000
SECONDARY_HORIZONTAL_DATUM: NAD27
XY_ORIGIN: 665663.00000 5041125.00000
SECONDARY_XY_ORIGIN: 665722.56600 5040914.70900
NATION: US
NATION: "SCIENCE
STATE: MT
NW_QUAD_CORNER_XY: 666018.84100 5040692.87200
NE_QUAD_CORNER_XY: 670901.71000 5040824.00100
SE_QUAD_CORNERY_XY: 671090.78000 5033880.54700
SW_QUAD_CORNER_XY: 666202.50400 5033749.41400
SECONDARY_NW_QUAD_XY: 666023.79500 5040475.32900
SECONDARY_NE_QUAD_XY: 670906.81000 5040606.46200
SECONDARY_SE_QUAD_XY: 671095.87900 5033663.05800
SECONDARY_SW_QUAD_XY: 666207.45700 5033531.92000
RMSE_XY: 1.20000
IMAGE_SOURCE: BLACK AND WHITE FILM
SOURCE_IMAGE_ID: NAPP 9147 020
SOURCE_IMAGE_DATE: 1996 08 24
SOURCE_IMAGE_ID: NAPP 9147 021
SOURCE_IMAGE_DATE: 1996 08 24
SOURCE_IMAGE_ID: NAPP 9147 019
SOURCE_IMAGE_DATE: 1996 08 24
SOURCE_IMAGE_ID: NAPP 9141 021
SOURCE_IMAGE_DATE: 1996 08 23
SOURCE_IMAGE_ID: NAPP 9141 023
SOURCE_IMAGE_DATE: 1996 08 23
SOURCE_DEM_DATE: 1998 00 00
AGENCY: WESTERN MAPPING CENTER (WMC)
PRODUCER: UNDEFINED
PRODUCTION_SYSTEM: GIS/MAGIC
COMPRESSION: UNDEFINED
STANDARD_VERSION: 1996 12
METADATA_DATE: 1999 04 28
DATA_FILE_SIZE: 44033094
BYTE_COUNT: 5729
