FILENAME: O4510834.SWS.1007229.tif
QUADRANGLE_NAME: EDGAR
QUADRANT: SW
WEST_LONGITUDE: -108 52 30.00000
EAST_LONGITUDE: -108 48 45.00000
NORTH_LATITUDE: 45 26 15.00000
SOUTH_LATITUDE: 45 22 30.00000
PRODUCTION_DATE: 1999 4 2
RASTER_ORDER: LEFT_RIGHT/TOP_BOTTOM
BAND_ORGANIZATION: SINGLE FILE
BAND_CONTENT: BLACK&WHITE
BAND_CONTENT: UNDEFINED
BAND_CONTENT: UNDEFINED
BITS_PER_PIXEL: 8
SAMPLES_AND_LINES: 5735 7685
HORIZONTAL_DATUM: NAD83
HORIZONTAL_COORDINATE_SYSTEM: UTM
COORDINATE_ZONE: 12
HORIZONTAL_UNITS: METERS
HORIZONTAL_RESOLUTION: 1.00000
SECONDARY_HORIZONTAL_DATUM: NAD27
XY_ORIGIN: 665846.00000 5034181.00000
SECONDARY_XY_ORIGIN: 665905.53800 5033970.75500
NATION: US
NATION: "SCIENCE
STATE: MT
NW_QUAD_CORNER_XY: 666202.50400 5033749.41400
NE_QUAD_CORNER_XY: 671090.78000 5033880.54700
SE_QUAD_CORNERY_XY: 671279.64500 5026937.15900
SW_QUAD_CORNER_XY: 666385.96700 5026806.02100
SECONDARY_NW_QUAD_XY: 666207.45700 5033531.92000
SECONDARY_NE_QUAD_XY: 671095.87900 5033663.05800
SECONDARY_SE_QUAD_XY: 671284.74200 5026719.71900
SECONDARY_SW_QUAD_XY: 666390.92000 5026588.57800
RMSE_XY: 2.00000
IMAGE_SOURCE: BLACK AND WHITE FILM
SOURCE_IMAGE_ID: NAPP 9147 022
SOURCE_IMAGE_DATE: 1996 08 24
SOURCE_IMAGE_ID: NAPP 9147 023
SOURCE_IMAGE_DATE: 1996 08 24
SOURCE_IMAGE_ID: NAPP 9147 021
SOURCE_IMAGE_DATE: 1996 08 24
SOURCE_DEM_DATE: 1998 00 00
AGENCY: WESTERN MAPPING CENTER (WMC)
PRODUCER: UNDEFINED
PRODUCTION_SYSTEM: GIS/MAGIC
COMPRESSION: UNDEFINED
STANDARD_VERSION: 1996 12
METADATA_DATE: 1999 04 28
DATA_FILE_SIZE: 44079210
BYTE_COUNT: 5735
