FILENAME: O4510833.NES.1007184.tif
QUADRANGLE_NAME: FROMBERG
QUADRANT: NE
WEST_LONGITUDE: -108 56 15.00000
EAST_LONGITUDE: -108 52 30.00000
NORTH_LATITUDE: 45 30 0.00000
SOUTH_LATITUDE: 45 26 15.00000
PRODUCTION_DATE: 1999 4 13
RASTER_ORDER: LEFT_RIGHT/TOP_BOTTOM
BAND_ORGANIZATION: SINGLE FILE
BAND_CONTENT: BLACK&WHITE
BAND_CONTENT: UNDEFINED
BAND_CONTENT: UNDEFINED
BITS_PER_PIXEL: 8
SAMPLES_AND_LINES: 5724 7681
HORIZONTAL_DATUM: NAD83
HORIZONTAL_COORDINATE_SYSTEM: UTM
COORDINATE_ZONE: 12
HORIZONTAL_UNITS: METERS
HORIZONTAL_RESOLUTION: 1.00000
SECONDARY_HORIZONTAL_DATUM: NAD27
XY_ORIGIN: 660780.00000 5040993.00000
SECONDARY_XY_ORIGIN: 660839.61700 5040782.76500
NATION: US
NATION: "SCIENCE
STATE: MT
NW_QUAD_CORNER_XY: 661135.96800 5040565.54700
NE_QUAD_CORNER_XY: 666018.84100 5040692.87200
SE_QUAD_CORNERY_XY: 666202.50400 5033749.41400
SW_QUAD_CORNER_XY: 661314.22500 5033622.08400
SECONDARY_NW_QUAD_XY: 661140.77700 5040348.00000
SECONDARY_NE_QUAD_XY: 666023.79500 5040475.32900
SECONDARY_SE_QUAD_XY: 666207.45700 5033531.92000
SECONDARY_SW_QUAD_XY: 661319.03200 5033404.58700
RMSE_XY: 2.10000
IMAGE_SOURCE: BLACK AND WHITE FILM
SOURCE_IMAGE_ID: NAPP 9147 051
SOURCE_IMAGE_DATE: 1996 08 24
SOURCE_DEM_DATE: 1998 00 00
AGENCY: WESTERN MAPPING CENTER (WMC)
PRODUCER: UNDEFINED
PRODUCTION_SYSTEM: GIS/MAGIC
COMPRESSION: UNDEFINED
STANDARD_VERSION: 1996 12
METADATA_DATE: 1999 04 28
DATA_FILE_SIZE: 43971768
BYTE_COUNT: 5724
