FILENAME: O4510831.NES.1006954.tif
QUADRANGLE_NAME: WOODY MOUNTAIN
QUADRANT: NE
WEST_LONGITUDE: -108 11 15.00000
EAST_LONGITUDE: -108 7 30.00000
NORTH_LATITUDE: 45 37 30.00000
SOUTH_LATITUDE: 45 33 45.00000
PRODUCTION_DATE: 1999 4 8
RASTER_ORDER: LEFT_RIGHT/TOP_BOTTOM
BAND_ORGANIZATION: SINGLE FILE
BAND_CONTENT: BLACK&WHITE
BAND_CONTENT: UNDEFINED
BAND_CONTENT: UNDEFINED
BITS_PER_PIXEL: 8
SAMPLES_AND_LINES: 5777 7726
HORIZONTAL_DATUM: NAD83
HORIZONTAL_COORDINATE_SYSTEM: UTM
COORDINATE_ZONE: 12
HORIZONTAL_UNITS: METERS
HORIZONTAL_RESOLUTION: 1.00000
SECONDARY_HORIZONTAL_DATUM: NAD27
XY_ORIGIN: 718889.00000 5056705.00000
SECONDARY_XY_ORIGIN: 718948.37800 5056494.15500
NATION: US
NATION: "SCIENCE
STATE: MT
NW_QUAD_CORNER_XY: 719243.07800 5056231.57500
NE_QUAD_CORNER_XY: 724115.06100 5056404.55800
SE_QUAD_CORNERY_XY: 724364.17700 5049461.04800
SW_QUAD_CORNER_XY: 719486.76900 5049288.05700
SECONDARY_NW_QUAD_XY: 719249.64000 5056013.98600
SECONDARY_NE_QUAD_XY: 724121.76900 5056186.97500
SECONDARY_SE_QUAD_XY: 724370.88200 5049243.51200
SECONDARY_SW_QUAD_XY: 719493.32900 5049070.51600
RMSE_XY: 1.60000
IMAGE_SOURCE: BLACK AND WHITE FILM
SOURCE_IMAGE_ID: NAPP 9143 025
SOURCE_IMAGE_DATE: 1996 08 24
SOURCE_IMAGE_ID: NAPP 9146 056
SOURCE_IMAGE_DATE: 1996 08 24
SOURCE_IMAGE_ID: NAPP 9143 026
SOURCE_IMAGE_DATE: 1996 08 24
SOURCE_DEM_DATE: 1998 00 00
AGENCY: WESTERN MAPPING CENTER (WMC)
PRODUCER: UNDEFINED
PRODUCTION_SYSTEM: GIS/MAGIC
COMPRESSION: UNDEFINED
STANDARD_VERSION: 1996 12
METADATA_DATE: 1999 04 30
DATA_FILE_SIZE: 44638879
BYTE_COUNT: 5777
