FILENAME: O4510831.SWS.1006957.tif
QUADRANGLE_NAME: WOODY MOUNTAIN
QUADRANT: SW
WEST_LONGITUDE: -108 15 0.00000
EAST_LONGITUDE: -108 11 15.00000
NORTH_LATITUDE: 45 33 45.00000
SOUTH_LATITUDE: 45 30 0.00000
PRODUCTION_DATE: 1999 4 6
RASTER_ORDER: LEFT_RIGHT/TOP_BOTTOM
BAND_ORGANIZATION: SINGLE FILE
BAND_CONTENT: BLACK&WHITE
BAND_CONTENT: UNDEFINED
BAND_CONTENT: UNDEFINED
BITS_PER_PIXEL: 8
SAMPLES_AND_LINES: 5777 7723
HORIZONTAL_DATUM: NAD83
HORIZONTAL_COORDINATE_SYSTEM: UTM
COORDINATE_ZONE: 12
HORIZONTAL_UNITS: METERS
HORIZONTAL_RESOLUTION: 1.00000
SECONDARY_HORIZONTAL_DATUM: NAD27
XY_ORIGIN: 714255.00000 5049589.00000
SECONDARY_XY_ORIGIN: 714314.35300 5049378.15800
NATION: US
NATION: "SCIENCE
STATE: MT
NW_QUAD_CORNER_XY: 714609.35600 5049118.87400
NE_QUAD_CORNER_XY: 719486.76900 5049288.05700
SE_QUAD_CORNERY_XY: 719730.19700 5042344.59800
SW_QUAD_CORNER_XY: 714847.36700 5042175.40800
SECONDARY_NW_QUAD_XY: 714615.77000 5048901.32800
SECONDARY_NE_QUAD_XY: 719493.32900 5049070.51600
SECONDARY_SE_QUAD_XY: 719736.75500 5042127.10400
SECONDARY_SW_QUAD_XY: 714853.77900 5041957.90900
RMSE_XY: 2.90000
IMAGE_SOURCE: BLACK AND WHITE FILM
SOURCE_IMAGE_ID: NAPP 9146 059
SOURCE_IMAGE_DATE: 1996 08 24
SOURCE_IMAGE_ID: NAPP 9134 019
SOURCE_IMAGE_DATE: 1996 08 10
SOURCE_IMAGE_ID: NAPP 9146 058
SOURCE_IMAGE_DATE: 1996 08 24
SOURCE_DEM_DATE: 1998 00 00
AGENCY: WESTERN MAPPING CENTER (WMC)
PRODUCER: UNDEFINED
PRODUCTION_SYSTEM: GIS/MAGIC
COMPRESSION: UNDEFINED
STANDARD_VERSION: 1996 12
METADATA_DATE: 1999 04 30
DATA_FILE_SIZE: 44621548
BYTE_COUNT: 5777
