FILENAME: O4510830.NES.1006917.tif
QUADRANGLE_NAME: SODA SPRINGS
QUADRANT: NE
WEST_LONGITUDE: -108 18 45.00000
EAST_LONGITUDE: -108 15 0.00000
NORTH_LATITUDE: 45 37 30.00000
SOUTH_LATITUDE: 45 33 45.00000
PRODUCTION_DATE: 1999 4 6
RASTER_ORDER: LEFT_RIGHT/TOP_BOTTOM
BAND_ORGANIZATION: SINGLE FILE
BAND_CONTENT: BLACK&WHITE
BAND_CONTENT: UNDEFINED
BAND_CONTENT: UNDEFINED
BITS_PER_PIXEL: 8
SAMPLES_AND_LINES: 5767 7719
HORIZONTAL_DATUM: NAD83
HORIZONTAL_COORDINATE_SYSTEM: UTM
COORDINATE_ZONE: 12
HORIZONTAL_UNITS: METERS
HORIZONTAL_RESOLUTION: 1.00000
SECONDARY_HORIZONTAL_DATUM: NAD27
XY_ORIGIN: 709144.00000 5056363.00000
SECONDARY_XY_ORIGIN: 709203.39500 5056152.25200
NATION: US
NATION: "SCIENCE
STATE: MT
NW_QUAD_CORNER_XY: 709499.09400 5055897.03100
NE_QUAD_CORNER_XY: 714371.08900 5056062.39900
SE_QUAD_CORNERY_XY: 714609.35600 5049118.87400
SW_QUAD_CORNER_XY: 709731.93800 5048953.49900
SECONDARY_NW_QUAD_XY: 709505.36400 5055679.43200
SECONDARY_NE_QUAD_XY: 714377.50400 5055844.80500
SECONDARY_SE_QUAD_XY: 714615.77000 5048901.32800
SECONDARY_SW_QUAD_XY: 709738.20700 5048735.94700
RMSE_XY: 2.60000
IMAGE_SOURCE: BLACK AND WHITE FILM
SOURCE_IMAGE_ID: NAPP 9134 022
SOURCE_IMAGE_DATE: 1996 08 10
SOURCE_IMAGE_ID: NAPP 9137 093
SOURCE_IMAGE_DATE: 1996 08 23
SOURCE_IMAGE_ID: NAPP 9134 020
SOURCE_IMAGE_DATE: 1996 08 10
SOURCE_IMAGE_ID: NAPP 9134 021
SOURCE_IMAGE_DATE: 1996 08 10
SOURCE_IMAGE_ID: NAPP 9134 023
SOURCE_IMAGE_DATE: 1996 08 10
SOURCE_DEM_DATE: 1998 00 00
AGENCY: WESTERN MAPPING CENTER (WMC)
PRODUCER: UNDEFINED
PRODUCTION_SYSTEM: GIS/MAGIC
COMPRESSION: UNDEFINED
STANDARD_VERSION: 1996 12
METADATA_DATE: 1999 04 30
DATA_FILE_SIZE: 44521240
BYTE_COUNT: 5767
