FILENAME: O4510830.NWS.1006918.tif
QUADRANGLE_NAME: SODA SPRINGS
QUADRANT: NW
WEST_LONGITUDE: -108 22 30.00000
EAST_LONGITUDE: -108 18 45.00000
NORTH_LATITUDE: 45 37 30.00000
SOUTH_LATITUDE: 45 33 45.00000
PRODUCTION_DATE: 1999 4 6
RASTER_ORDER: LEFT_RIGHT/TOP_BOTTOM
BAND_ORGANIZATION: SINGLE FILE
BAND_CONTENT: BLACK&WHITE
BAND_CONTENT: UNDEFINED
BAND_CONTENT: UNDEFINED
BITS_PER_PIXEL: 8
SAMPLES_AND_LINES: 5761 7715
HORIZONTAL_DATUM: NAD83
HORIZONTAL_COORDINATE_SYSTEM: UTM
COORDINATE_ZONE: 12
HORIZONTAL_UNITS: METERS
HORIZONTAL_RESOLUTION: 1.00000
SECONDARY_HORIZONTAL_DATUM: NAD27
XY_ORIGIN: 704272.00000 5056198.00000
SECONDARY_XY_ORIGIN: 704331.36900 5055987.28400
NATION: US
NATION: "SCIENCE
STATE: MT
NW_QUAD_CORNER_XY: 704627.09400 5055735.47000
NE_QUAD_CORNER_XY: 709499.09400 5055897.03100
SE_QUAD_CORNERY_XY: 709731.93800 5048953.49900
SW_QUAD_CORNER_XY: 704854.51600 5048791.93000
SECONDARY_NW_QUAD_XY: 704633.21800 5055517.86600
SECONDARY_NE_QUAD_XY: 709505.36400 5055679.43200
SECONDARY_SE_QUAD_XY: 709738.20700 5048735.94700
SECONDARY_SW_QUAD_XY: 704860.63800 5048574.37400
RMSE_XY: 2.60000
IMAGE_SOURCE: BLACK AND WHITE FILM
SOURCE_IMAGE_ID: NAPP 9134 023
SOURCE_IMAGE_DATE: 1996 08 10
SOURCE_IMAGE_ID: NAPP 9137 130
SOURCE_IMAGE_DATE: 1996 08 23
SOURCE_IMAGE_ID: NAPP 9137 131
SOURCE_IMAGE_DATE: 1996 08 23
SOURCE_IMAGE_ID: NAPP 9137 132
SOURCE_IMAGE_DATE: 1996 08 23
SOURCE_IMAGE_ID: NAPP 9137 093
SOURCE_IMAGE_DATE: 1996 08 23
SOURCE_DEM_DATE: 1998 00 00
AGENCY: WESTERN MAPPING CENTER (WMC)
PRODUCER: UNDEFINED
PRODUCTION_SYSTEM: GIS/MAGIC
COMPRESSION: UNDEFINED
STANDARD_VERSION: 1996 12
METADATA_DATE: 1999 04 30
DATA_FILE_SIZE: 44451876
BYTE_COUNT: 5761
