FILENAME: O4510830.SWS.1006920.tif
QUADRANGLE_NAME: SODA SPRINGS
QUADRANT: SW
WEST_LONGITUDE: -108 22 30.00000
EAST_LONGITUDE: -108 18 45.00000
NORTH_LATITUDE: 45 33 45.00000
SOUTH_LATITUDE: 45 30 0.00000
PRODUCTION_DATE: 1999 4 6
RASTER_ORDER: LEFT_RIGHT/TOP_BOTTOM
BAND_ORGANIZATION: SINGLE FILE
BAND_CONTENT: BLACK&WHITE
BAND_CONTENT: UNDEFINED
BAND_CONTENT: UNDEFINED
BITS_PER_PIXEL: 8
SAMPLES_AND_LINES: 5766 7715
HORIZONTAL_DATUM: NAD83
HORIZONTAL_COORDINATE_SYSTEM: UTM
COORDINATE_ZONE: 12
HORIZONTAL_UNITS: METERS
HORIZONTAL_RESOLUTION: 1.00000
SECONDARY_HORIZONTAL_DATUM: NAD27
XY_ORIGIN: 704500.00000 5049254.00000
SECONDARY_XY_ORIGIN: 704559.32700 5049043.26700
NATION: US
NATION: "SCIENCE
STATE: MT
NW_QUAD_CORNER_XY: 704854.51600 5048791.93000
NE_QUAD_CORNER_XY: 709731.93800 5048953.49900
SE_QUAD_CORNERY_XY: 709964.53200 5042010.02600
SW_QUAD_CORNER_XY: 705081.69300 5041848.45100
SECONDARY_NW_QUAD_XY: 704860.63800 5048574.37400
SECONDARY_NE_QUAD_XY: 709738.20700 5048735.94700
SECONDARY_SE_QUAD_XY: 709970.79900 5041792.52200
SECONDARY_SW_QUAD_XY: 705087.81400 5041630.94300
RMSE_XY: 2.30000
IMAGE_SOURCE: BLACK AND WHITE FILM
SOURCE_IMAGE_ID: NAPP 9137 094
SOURCE_IMAGE_DATE: 1996 08 23
SOURCE_IMAGE_ID: NAPP 9137 130
SOURCE_IMAGE_DATE: 1996 08 23
SOURCE_IMAGE_ID: NAPP 9137 095
SOURCE_IMAGE_DATE: 1996 08 23
SOURCE_IMAGE_ID: NAPP 9137 093
SOURCE_IMAGE_DATE: 1996 08 23
SOURCE_DEM_DATE: 1998 00 00
AGENCY: WESTERN MAPPING CENTER (WMC)
PRODUCER: UNDEFINED
PRODUCTION_SYSTEM: GIS/MAGIC
COMPRESSION: UNDEFINED
STANDARD_VERSION: 1996 12
METADATA_DATE: 1999 04 30
DATA_FILE_SIZE: 44490456
BYTE_COUNT: 5766
