FILENAME: O4510828.NWS.1007348.tif
QUADRANGLE_NAME: STRATFORD HILL
QUADRANT: NW
WEST_LONGITUDE: -108 37 30.00000
EAST_LONGITUDE: -108 33 45.00000
NORTH_LATITUDE: 45 37 30.00000
SOUTH_LATITUDE: 45 33 45.00000
PRODUCTION_DATE: 1999 4 2
RASTER_ORDER: LEFT_RIGHT/TOP_BOTTOM
BAND_ORGANIZATION: SINGLE FILE
BAND_CONTENT: BLACK&WHITE
BAND_CONTENT: UNDEFINED
BAND_CONTENT: UNDEFINED
BITS_PER_PIXEL: 8
SAMPLES_AND_LINES: 5740 7700
HORIZONTAL_DATUM: NAD83
HORIZONTAL_COORDINATE_SYSTEM: UTM
COORDINATE_ZONE: 12
HORIZONTAL_UNITS: METERS
HORIZONTAL_RESOLUTION: 1.00000
SECONDARY_HORIZONTAL_DATUM: NAD27
XY_ORIGIN: 684784.00000 5055574.00000
SECONDARY_XY_ORIGIN: 684843.41000 5055363.42300
NATION: US
NATION: "SCIENCE
STATE: MT
NW_QUAD_CORNER_XY: 685139.04400 5055127.28600
NE_QUAD_CORNER_XY: 690011.06400 5055273.62300
SE_QUAD_CORNERY_XY: 690222.22100 5048330.06400
SW_QUAD_CORNER_XY: 685344.78100 5048183.72000
SECONDARY_NW_QUAD_XY: 685144.58400 5054909.66400
SECONDARY_NE_QUAD_XY: 690016.75000 5055056.00600
SECONDARY_SE_QUAD_XY: 690227.90600 5048112.49300
SECONDARY_SW_QUAD_XY: 685350.32000 5047966.14500
RMSE_XY: 2.30000
IMAGE_SOURCE: BLACK AND WHITE FILM
SOURCE_IMAGE_ID: NAPP 9138 026
SOURCE_IMAGE_DATE: 1996 08 23
SOURCE_IMAGE_ID: NAPP 9138 284
SOURCE_IMAGE_DATE: 1996 08 23
SOURCE_IMAGE_ID: NAPP 9138 285
SOURCE_IMAGE_DATE: 1996 08 23
SOURCE_IMAGE_ID: NAPP 9138 247
SOURCE_IMAGE_DATE: 1996 08 23
SOURCE_IMAGE_ID: NAPP 9138 245
SOURCE_IMAGE_DATE: 1996 08 23
SOURCE_DEM_DATE: 1998 00 00
AGENCY: WESTERN MAPPING CENTER (WMC)
PRODUCER: UNDEFINED
PRODUCTION_SYSTEM: GIS/MAGIC
COMPRESSION: UNDEFINED
STANDARD_VERSION: 1996 12
METADATA_DATE: 1999 04 28
DATA_FILE_SIZE: 44203740
BYTE_COUNT: 5740
