FILENAME: O4510828.SES.1007349.tif
QUADRANGLE_NAME: STRATFORD HILL
QUADRANT: SE
WEST_LONGITUDE: -108 33 45.00000
EAST_LONGITUDE: -108 30 0.00000
NORTH_LATITUDE: 45 33 45.00000
SOUTH_LATITUDE: 45 30 0.00000
PRODUCTION_DATE: 1999 4 2
RASTER_ORDER: LEFT_RIGHT/TOP_BOTTOM
BAND_ORGANIZATION: SINGLE FILE
BAND_CONTENT: BLACK&WHITE
BAND_CONTENT: UNDEFINED
BAND_CONTENT: UNDEFINED
BITS_PER_PIXEL: 8
SAMPLES_AND_LINES: 5751 7704
HORIZONTAL_DATUM: NAD83
HORIZONTAL_COORDINATE_SYSTEM: UTM
COORDINATE_ZONE: 12
HORIZONTAL_UNITS: METERS
HORIZONTAL_RESOLUTION: 1.00000
SECONDARY_HORIZONTAL_DATUM: NAD27
XY_ORIGIN: 689867.00000 5048781.00000
SECONDARY_XY_ORIGIN: 689926.34300 5048570.40700
NATION: US
NATION: "SCIENCE
STATE: MT
NW_QUAD_CORNER_XY: 690222.22100 5048330.06400
NE_QUAD_CORNER_XY: 695099.65700 5048480.21300
SE_QUAD_CORNERY_XY: 695316.00200 5041536.72200
SW_QUAD_CORNER_XY: 690433.15100 5041386.56700
SECONDARY_NW_QUAD_XY: 690227.90600 5048112.49300
SECONDARY_NE_QUAD_XY: 695105.48800 5048262.64700
SECONDARY_SE_QUAD_XY: 695321.83200 5041319.20400
SECONDARY_SW_QUAD_XY: 690438.83500 5041169.04500
RMSE_XY: 1.70000
IMAGE_SOURCE: BLACK AND WHITE FILM
SOURCE_IMAGE_ID: NAPP 9138 023
SOURCE_IMAGE_DATE: 1996 08 23
SOURCE_IMAGE_ID: NAPP 9138 248
SOURCE_IMAGE_DATE: 1996 08 23
SOURCE_IMAGE_ID: NAPP 9138 024
SOURCE_IMAGE_DATE: 1996 08 23
SOURCE_DEM_DATE: 1998 00 00
AGENCY: WESTERN MAPPING CENTER (WMC)
PRODUCER: UNDEFINED
PRODUCTION_SYSTEM: GIS/MAGIC
COMPRESSION: UNDEFINED
STANDARD_VERSION: 1996 12
METADATA_DATE: 1999 04 28
DATA_FILE_SIZE: 44311455
BYTE_COUNT: 5751
