FILENAME: O4510826.NES.1007254.tif
QUADRANGLE_NAME: SILESIA
QUADRANT: NE
WEST_LONGITUDE: -108 48 45.00000
EAST_LONGITUDE: -108 45 0.00000
NORTH_LATITUDE: 45 37 30.00000
SOUTH_LATITUDE: 45 33 45.00000
PRODUCTION_DATE: 1999 4 2
RASTER_ORDER: LEFT_RIGHT/TOP_BOTTOM
BAND_ORGANIZATION: SINGLE FILE
BAND_CONTENT: BLACK&WHITE
BAND_CONTENT: UNDEFINED
BAND_CONTENT: UNDEFINED
BITS_PER_PIXEL: 8
SAMPLES_AND_LINES: 5724 7689
HORIZONTAL_DATUM: NAD83
HORIZONTAL_COORDINATE_SYSTEM: UTM
COORDINATE_ZONE: 12
HORIZONTAL_UNITS: METERS
HORIZONTAL_RESOLUTION: 1.00000
SECONDARY_HORIZONTAL_DATUM: NAD27
XY_ORIGIN: 670167.00000 5055147.00000
SECONDARY_XY_ORIGIN: 670226.55000 5054936.57800
NATION: US
NATION: "SCIENCE
STATE: MT
NW_QUAD_CORNER_XY: 670522.95700 5054711.10400
NE_QUAD_CORNER_XY: 675394.99000 5054846.02700
SE_QUAD_CORNERY_XY: 675589.88800 5047902.44800
SW_QUAD_CORNER_XY: 670712.43500 5047767.52000
SECONDARY_NW_QUAD_XY: 670528.06000 5054493.46900
SECONDARY_NE_QUAD_XY: 675400.23900 5054628.39600
SECONDARY_SE_QUAD_XY: 675595.13500 5047684.86500
SECONDARY_SW_QUAD_XY: 670717.53700 5047549.93300
RMSE_XY: 2.00000
IMAGE_SOURCE: BLACK AND WHITE FILM
SOURCE_IMAGE_ID: NAPP 9141 026
SOURCE_IMAGE_DATE: 1996 08 23
SOURCE_IMAGE_ID: NAPP 9141 025
SOURCE_IMAGE_DATE: 1996 08 23
SOURCE_IMAGE_ID: NAPP 9141 027
SOURCE_IMAGE_DATE: 1996 08 23
SOURCE_IMAGE_ID: NAPP 9140 102
SOURCE_IMAGE_DATE: 1996 08 23
SOURCE_IMAGE_ID: NAPP 9140 100
SOURCE_IMAGE_DATE: 1996 08 23
SOURCE_DEM_DATE: 1998 00 00
AGENCY: WESTERN MAPPING CENTER (WMC)
PRODUCER: UNDEFINED
PRODUCTION_SYSTEM: GIS/MAGIC
COMPRESSION: UNDEFINED
STANDARD_VERSION: 1996 12
METADATA_DATE: 1999 04 28
DATA_FILE_SIZE: 44017560
BYTE_COUNT: 5724
