FILENAME: O4510825.NES.1007218.tif
QUADRANGLE_NAME: MONTAQUA
QUADRANT: NE
WEST_LONGITUDE: -108 56 15.00000
EAST_LONGITUDE: -108 52 30.00000
NORTH_LATITUDE: 45 37 30.00000
SOUTH_LATITUDE: 45 33 45.00000
PRODUCTION_DATE: 1999 4 2
RASTER_ORDER: LEFT_RIGHT/TOP_BOTTOM
BAND_ORGANIZATION: SINGLE FILE
BAND_CONTENT: BLACK&WHITE
BAND_CONTENT: UNDEFINED
BAND_CONTENT: UNDEFINED
BITS_PER_PIXEL: 8
SAMPLES_AND_LINES: 5713 7681
HORIZONTAL_DATUM: NAD83
HORIZONTAL_COORDINATE_SYSTEM: UTM
COORDINATE_ZONE: 12
HORIZONTAL_UNITS: METERS
HORIZONTAL_RESOLUTION: 1.00000
SECONDARY_HORIZONTAL_DATUM: NAD27
XY_ORIGIN: 660423.00000 5054880.00000
SECONDARY_XY_ORIGIN: 660482.64400 5054669.74900
NATION: US
NATION: "SCIENCE
STATE: MT
NW_QUAD_CORNER_XY: 660778.87700 5054452.67100
NE_QUAD_CORNER_XY: 665650.91900 5054579.98500
SE_QUAD_CORNERY_XY: 665834.97900 5047636.39600
SW_QUAD_CORNER_XY: 660957.51900 5047509.07500
SECONDARY_NW_QUAD_XY: 660783.68800 5054235.02800
SECONDARY_NE_QUAD_XY: 665655.87600 5054362.34700
SECONDARY_SE_QUAD_XY: 665839.93500 5047418.80500
SECONDARY_SW_QUAD_XY: 660962.32900 5047291.48100
RMSE_XY: 2.20000
IMAGE_SOURCE: BLACK AND WHITE FILM
SOURCE_IMAGE_ID: NAPP 9147 055
SOURCE_IMAGE_DATE: 1996 08 24
SOURCE_IMAGE_ID: NAPP 9147 275
SOURCE_IMAGE_DATE: 1996 08 24
SOURCE_IMAGE_ID: NAPP 9147 016
SOURCE_IMAGE_DATE: 1996 08 24
SOURCE_DEM_DATE: 1998 00 00
AGENCY: WESTERN MAPPING CENTER (WMC)
PRODUCER: UNDEFINED
PRODUCTION_SYSTEM: GIS/MAGIC
COMPRESSION: UNDEFINED
STANDARD_VERSION: 1996 12
METADATA_DATE: 1999 04 28
DATA_FILE_SIZE: 43887266
BYTE_COUNT: 5713
