FILENAME: O4510825.SES.1007220.tif
QUADRANGLE_NAME: MONTAQUA
QUADRANT: SE
WEST_LONGITUDE: -108 56 15.00000
EAST_LONGITUDE: -108 52 30.00000
NORTH_LATITUDE: 45 33 45.00000
SOUTH_LATITUDE: 45 30 0.00000
PRODUCTION_DATE: 1999 4 2
RASTER_ORDER: LEFT_RIGHT/TOP_BOTTOM
BAND_ORGANIZATION: SINGLE FILE
BAND_CONTENT: BLACK&WHITE
BAND_CONTENT: UNDEFINED
BAND_CONTENT: UNDEFINED
BITS_PER_PIXEL: 8
SAMPLES_AND_LINES: 5719 7681
HORIZONTAL_DATUM: NAD83
HORIZONTAL_COORDINATE_SYSTEM: UTM
COORDINATE_ZONE: 12
HORIZONTAL_UNITS: METERS
HORIZONTAL_RESOLUTION: 1.00000
SECONDARY_HORIZONTAL_DATUM: NAD27
XY_ORIGIN: 660601.00000 5047937.00000
SECONDARY_XY_ORIGIN: 660660.63100 5047726.75600
NATION: US
NATION: "SCIENCE
STATE: MT
NW_QUAD_CORNER_XY: 660957.51900 5047509.07500
NE_QUAD_CORNER_XY: 665834.97900 5047636.39600
SE_QUAD_CORNERY_XY: 666018.84100 5040692.87200
SW_QUAD_CORNER_XY: 661135.96800 5040565.54700
SECONDARY_NW_QUAD_XY: 660962.32900 5047291.48100
SECONDARY_NE_QUAD_XY: 665839.93500 5047418.80500
SECONDARY_SE_QUAD_XY: 666023.79500 5040475.32900
SECONDARY_SW_QUAD_XY: 661140.77700 5040348.00000
RMSE_XY: 1.80000
IMAGE_SOURCE: BLACK AND WHITE FILM
SOURCE_IMAGE_ID: NAPP 9147 053
SOURCE_IMAGE_DATE: 1996 08 24
SOURCE_IMAGE_ID: NAPP 9147 054
SOURCE_IMAGE_DATE: 1996 08 24
SOURCE_IMAGE_ID: NAPP 9147 018
SOURCE_IMAGE_DATE: 1996 08 24
SOURCE_DEM_DATE: 1998 00 00
AGENCY: WESTERN MAPPING CENTER (WMC)
PRODUCER: UNDEFINED
PRODUCTION_SYSTEM: GIS/MAGIC
COMPRESSION: UNDEFINED
STANDARD_VERSION: 1996 12
METADATA_DATE: 1999 04 28
DATA_FILE_SIZE: 43933358
BYTE_COUNT: 5719
