FILENAME: O4510825.SWS.1007221.tif
QUADRANGLE_NAME: MONTAQUA
QUADRANT: SW
WEST_LONGITUDE: -109 0 0.00000
EAST_LONGITUDE: -108 56 15.00000
NORTH_LATITUDE: 45 33 45.00000
SOUTH_LATITUDE: 45 30 0.00000
PRODUCTION_DATE: 1999 4 2
RASTER_ORDER: LEFT_RIGHT/TOP_BOTTOM
BAND_ORGANIZATION: SINGLE FILE
BAND_CONTENT: BLACK&WHITE
BAND_CONTENT: UNDEFINED
BAND_CONTENT: UNDEFINED
BITS_PER_PIXEL: 8
SAMPLES_AND_LINES: 5713 7678
HORIZONTAL_DATUM: NAD83
HORIZONTAL_COORDINATE_SYSTEM: UTM
COORDINATE_ZONE: 12
HORIZONTAL_UNITS: METERS
HORIZONTAL_RESOLUTION: 1.00000
SECONDARY_HORIZONTAL_DATUM: NAD27
XY_ORIGIN: 655724.00000 5047810.00000
SECONDARY_XY_ORIGIN: 655783.68000 5047599.82700
NATION: US
NATION: "SCIENCE
STATE: MT
NW_QUAD_CORNER_XY: 656080.05500 5047385.55900
NE_QUAD_CORNER_XY: 660957.51900 5047509.07500
SE_QUAD_CORNERY_XY: 661135.96800 5040565.54700
SW_QUAD_CORNER_XY: 656253.09300 5040442.02500
SECONDARY_NW_QUAD_XY: 656084.72000 5047167.96000
SECONDARY_NE_QUAD_XY: 660962.32900 5047291.48100
SECONDARY_SE_QUAD_XY: 661140.77700 5040348.00000
SECONDARY_SW_QUAD_XY: 656257.75600 5040224.47500
RMSE_XY: 1.30000
IMAGE_SOURCE: BLACK AND WHITE FILM
SOURCE_IMAGE_ID: NAPP 9147 278
SOURCE_IMAGE_DATE: 1996 08 24
SOURCE_IMAGE_ID: NAPP 9147 279
SOURCE_IMAGE_DATE: 1996 08 24
SOURCE_IMAGE_ID: NAPP 9147 277
SOURCE_IMAGE_DATE: 1996 08 24
SOURCE_IMAGE_ID: NAPP 9147 053
SOURCE_IMAGE_DATE: 1996 08 24
SOURCE_DEM_DATE: 1998 00 00
AGENCY: WESTERN MAPPING CENTER (WMC)
PRODUCER: UNDEFINED
PRODUCTION_SYSTEM: GIS/MAGIC
COMPRESSION: UNDEFINED
STANDARD_VERSION: 1996 12
METADATA_DATE: 1999 04 28
DATA_FILE_SIZE: 43870127
BYTE_COUNT: 5713
