FILENAME: O4510823.NES.1006974.tif
QUADRANGLE_NAME: WOODY MOUNTAIN NW
QUADRANT: NE
WEST_LONGITUDE: -108 11 15.00000
EAST_LONGITUDE: -108 7 30.00000
NORTH_LATITUDE: 45 45 0.00000
SOUTH_LATITUDE: 45 41 15.00000
PRODUCTION_DATE: 1999 4 14
RASTER_ORDER: LEFT_RIGHT/TOP_BOTTOM
BAND_ORGANIZATION: SINGLE FILE
BAND_CONTENT: BLACK&WHITE
BAND_CONTENT: UNDEFINED
BAND_CONTENT: UNDEFINED
BITS_PER_PIXEL: 8
SAMPLES_AND_LINES: 5766 7726
HORIZONTAL_DATUM: NAD83
HORIZONTAL_COORDINATE_SYSTEM: UTM
COORDINATE_ZONE: 12
HORIZONTAL_UNITS: METERS
HORIZONTAL_RESOLUTION: 1.00000
SECONDARY_HORIZONTAL_DATUM: NAD27
XY_ORIGIN: 718401.00000 5070592.00000
SECONDARY_XY_ORIGIN: 718460.46800 5070381.19300
NATION: US
NATION: "SCIENCE
STATE: MT
NW_QUAD_CORNER_XY: 718754.91000 5070118.78400
NE_QUAD_CORNER_XY: 723616.02700 5070291.75000
SE_QUAD_CORNERY_XY: 723865.67800 5063348.12600
SW_QUAD_CORNER_XY: 718999.12500 5063175.15100
SECONDARY_NW_QUAD_XY: 718761.47400 5069901.10300
SECONDARY_NE_QUAD_XY: 723622.73800 5070074.07400
SECONDARY_SE_QUAD_XY: 723872.38800 5063130.49500
SECONDARY_SW_QUAD_XY: 719005.68800 5062957.51500
RMSE_XY: 2.60000
IMAGE_SOURCE: BLACK AND WHITE FILM
SOURCE_IMAGE_ID: NAPP 9142 257
SOURCE_IMAGE_DATE: 1996 08 24
SOURCE_IMAGE_ID: NAPP 9146 054
SOURCE_IMAGE_DATE: 1996 08 24
SOURCE_IMAGE_ID: NAPP 9143 030
SOURCE_IMAGE_DATE: 1996 08 24
SOURCE_IMAGE_ID: NAPP 9143 031
SOURCE_IMAGE_DATE: 1996 08 24
SOURCE_IMAGE_ID: NAPP 9142 258
SOURCE_IMAGE_DATE: 1996 08 24
SOURCE_DEM_DATE: 1998 00 00
AGENCY: WESTERN MAPPING CENTER (WMC)
PRODUCER: UNDEFINED
PRODUCTION_SYSTEM: GIS/MAGIC
COMPRESSION: UNDEFINED
STANDARD_VERSION: 1996 12
METADATA_DATE: 1999 04 28
DATA_FILE_SIZE: 44553882
BYTE_COUNT: 5766
