FILENAME: O4510822.SWS.1006940.tif
QUADRANGLE_NAME: BADBABY COULEE
QUADRANT: SW
WEST_LONGITUDE: -108 22 30.00000
EAST_LONGITUDE: -108 18 45.00000
NORTH_LATITUDE: 45 41 15.00000
SOUTH_LATITUDE: 45 37 30.00000
PRODUCTION_DATE: 1999 4 14
RASTER_ORDER: LEFT_RIGHT/TOP_BOTTOM
BAND_ORGANIZATION: SINGLE FILE
BAND_CONTENT: BLACK&WHITE
BAND_CONTENT: UNDEFINED
BAND_CONTENT: UNDEFINED
BITS_PER_PIXEL: 8
SAMPLES_AND_LINES: 5756 7715
HORIZONTAL_DATUM: NAD83
HORIZONTAL_COORDINATE_SYSTEM: UTM
COORDINATE_ZONE: 12
HORIZONTAL_UNITS: METERS
HORIZONTAL_RESOLUTION: 1.00000
SECONDARY_HORIZONTAL_DATUM: NAD27
XY_ORIGIN: 704045.00000 5063141.00000
SECONDARY_XY_ORIGIN: 704104.41000 5062930.30200
NATION: US
NATION: "SCIENCE
STATE: MT
NW_QUAD_CORNER_XY: 704399.42700 5062679.07000
NE_QUAD_CORNER_XY: 709265.99900 5062840.62300
SE_QUAD_CORNERY_XY: 709499.09400 5055897.03100
SW_QUAD_CORNER_XY: 704627.09400 5055735.47000
SECONDARY_NW_QUAD_XY: 704405.55300 5062461.41900
SECONDARY_NE_QUAD_XY: 709272.27000 5062622.97800
SECONDARY_SE_QUAD_XY: 709505.36400 5055679.43200
SECONDARY_SW_QUAD_XY: 704633.21800 5055517.86600
RMSE_XY: 3.90000
IMAGE_SOURCE: BLACK AND WHITE FILM
SOURCE_IMAGE_ID: NAPP 9137 089
SOURCE_IMAGE_DATE: 1996 08 23
SOURCE_IMAGE_ID: NAPP 9137 132
SOURCE_IMAGE_DATE: 1996 08 23
SOURCE_IMAGE_ID: NAPP 9137 133
SOURCE_IMAGE_DATE: 1996 08 23
SOURCE_IMAGE_ID: NAPP 9137 134
SOURCE_IMAGE_DATE: 1996 08 23
SOURCE_IMAGE_ID: NAPP 9137 091
SOURCE_IMAGE_DATE: 1996 08 23
SOURCE_DEM_DATE: 1998 00 00
AGENCY: WESTERN MAPPING CENTER (WMC)
PRODUCER: UNDEFINED
PRODUCTION_SYSTEM: GIS/MAGIC
COMPRESSION: UNDEFINED
STANDARD_VERSION: 1996 12
METADATA_DATE: 1999 04 28
DATA_FILE_SIZE: 44413296
BYTE_COUNT: 5756
