FILENAME: O4510821.NES.1007391.tif
QUADRANGLE_NAME: SODA SPRINGS NW
QUADRANT: NE
WEST_LONGITUDE: -108 26 15.00000
EAST_LONGITUDE: -108 22 30.00000
NORTH_LATITUDE: 45 45 0.00000
SOUTH_LATITUDE: 45 41 15.00000
PRODUCTION_DATE: 1999 4 6
RASTER_ORDER: LEFT_RIGHT/TOP_BOTTOM
BAND_ORGANIZATION: SINGLE FILE
BAND_CONTENT: BLACK&WHITE
BAND_CONTENT: UNDEFINED
BAND_CONTENT: UNDEFINED
BITS_PER_PIXEL: 8
SAMPLES_AND_LINES: 5746 7711
HORIZONTAL_DATUM: NAD83
HORIZONTAL_COORDINATE_SYSTEM: UTM
COORDINATE_ZONE: 12
HORIZONTAL_UNITS: METERS
HORIZONTAL_RESOLUTION: 1.00000
SECONDARY_HORIZONTAL_DATUM: NAD27
XY_ORIGIN: 698955.00000 5069923.00000
SECONDARY_XY_ORIGIN: 699014.40300 5069712.32400
NATION: US
NATION: "SCIENCE
STATE: MT
NW_QUAD_CORNER_XY: 699310.37200 5069464.99100
NE_QUAD_CORNER_XY: 704171.51600 5069622.73000
SE_QUAD_CORNERY_XY: 704399.42700 5062679.07000
SW_QUAD_CORNER_XY: 699532.85000 5062521.32200
SECONDARY_NW_QUAD_XY: 699316.35300 5069247.29000
SECONDARY_NE_QUAD_XY: 704177.64300 5069405.03400
SECONDARY_SE_QUAD_XY: 704405.55300 5062461.41900
SECONDARY_SW_QUAD_XY: 699538.82900 5062303.66700
RMSE_XY: 0.80000
IMAGE_SOURCE: BLACK AND WHITE FILM
SOURCE_IMAGE_ID: NAPP 9137 135
SOURCE_IMAGE_DATE: 1996 08 23
SOURCE_IMAGE_ID: NAPP 9137 136
SOURCE_IMAGE_DATE: 1996 08 23
SOURCE_IMAGE_ID: NAPP 9137 087
SOURCE_IMAGE_DATE: 1996 08 23
SOURCE_DEM_DATE: 1998 00 00
AGENCY: WESTERN MAPPING CENTER (WMC)
PRODUCER: UNDEFINED
PRODUCTION_SYSTEM: GIS/MAGIC
COMPRESSION: UNDEFINED
STANDARD_VERSION: 1996 12
METADATA_DATE: 1999 04 28
DATA_FILE_SIZE: 44313152
BYTE_COUNT: 5746
